Workbook

Sheet Úvodní strana
B12: =IF('Id. žádosti'!C6=0," ",'Id. žádosti'!C6) -> Infrastruktura pro alternativní paliva
B13: Řídicí orgán OPD 2021-2027
B14: =IF('Id. žádosti'!C7="","",'Id. žádosti'!C7) -> jednokolový systém hodnocení
B16: =IF('Id. žádosti'!C4="","",'Id. žádosti'!C4)
B18: Hodnocení projektových žádostí Programu Doprava 2021 - 2027
B21: =IFERROR(IF(Souhrn!D15="","",Souhrn!D15),"") -> nelze vyhodnotit
B22: verze: 260819

Sheet Id. žádosti
B2: Identifikace žádosti a hodnocení
B4: Název projektu
B5: Registrační číslo žádosti
B6: Opatření | C6: Infrastruktura pro alternativní paliva
B7: Fáze hodnocení | C7: jednokolový systém hodnocení
B9: Celkové náklady vč. DPH
B10: Celkové způsobilé náklady
B11: Požadovaný příspěvek OPD
B13: Žadatel
B15: Legenda
C17: Vyplní hodnotitel
B19: ano/ne | C19: je nutné jednoznačné posoudit splnění kriteria - ano nebo ne podle předepsané metodiky
B20: ano/ne/nerelevantní | C20: je nutné jednoznačné posoudit splnění kriteria - ano nebo ne podle předepsané metodiky, hodnocení nerelevantní lze použít ve vybraných případech, kdy není hledisko relevantní.
B21: s výhradou | C21: kladné hodnocení kritéria je podmíněno řádným vypořádáním výhrady
B24: 04.01.02.03.01.01 | C24: Železniční infrastruktura TEN-T
B25: 04.01.02.03.01.02 | C25: Silniční infrastruktura (TEN-T)
B26: 04.01.02.03.01.03 | C26: Infrastruktura pro multimodální dopravu TEN-T
B27: 04.01.02.03.01.04 | C27: Interoperabilita v železniční dopravě
B28: 04.01.02.03.02.05 | C28: Železniční infrastruktura mimo TEN-T
B29: 04.01.02.03.02.06 | C29: ITS - dopravní telematika
B30: 04.02.01.03.02.07 | C30: Silniční infrastruktura (mimo TEN-T)
B31: 04.03.02.02.08.08 | C31: Infrastruktura městské drážní dopravy
B32: 04.03.02.02.08.09 | C32: Infrastruktura pro alternativní paliva
B33: 04.04.02.20.90.11 | C33: Technická pomoc
B36: jednokolový systém hodnocení
B37: 1. kolo hodnocení
B38: 2. kolo hodnocení

Sheet Souhrn
B2: Souhrn věcného hodnocení
B4: ="Projektová žádost: "&'Id. žádosti'!C4 -> Projektová žádost:
B6: Označení | C6: Název kritéria | D6: Hodnocení
B7: K.1 | C7: Relevance projektu | D7: =IF(K.1!E25="","-",K.1!E25) -> -
B8: K.2 | C8: Soulad s horizontálními principy | D8: =IF(K.2!D18="","-",K.2!D18) -> -
B9: K.3 | C9: Plnění cílů a kvalita žádosti | D9: =IF(K.3!D14="","-",K.3!D14) -> -
B10: K.4 | C10: Ekonomická a finanční efektivita | D10: =IF(K.4!D15="","-",K.4!D15) -> -
B11: K.5 | C11: Připravenost projektu | D11: =IF(K.5!D13="","-",K.5!D13) -> -
B12: K.1 až K.5 | C12: Souhrnné vyhodnocení | D12: =IF(OR(D7="-",D8="-",D9="-",D10="-",D11="-"),"není kompletní",IF(D28="ANO",C28,IF(D29="ANO",C29,IF(D27="ANO",C27,IF(D26="ANO",C26,C25))))) -> není kompletní
C13: Analýza rizik | D13: =IF('Analýza rizik'!D16="","-",'Analýza rizik'!D16) -> Stupeň rizika I
C15: Závěrečné shrnutí hodnocení | D15: =IF('Id. žádosti'!C7='Id. žádosti'!B37,"hodnocení po 1. kole",IF(Souhrn!D12=Souhrn!C28,Souhrn!C33,IF(Souhrn!D12=Souhrn!C29,Souhrn!C32,IF(D12=C34,"nelze vyhodnotit",IF(OR(D12=Souhrn!C25,D12=Souhrn!C26,D12=Souhrn!C27),Souhrn!C31,"n.a."))))) -> nelze vyhodnotit
B17: Souhrnný komentář:
B18: Slovní komentář:
B25: Výběr | C25: Splněno zcela | D25: =IF(OR($D$7=C25,$D$8=C25,$D$9=C25,$D$10=C25,$D$11=C25),"ANO","NE") -> NE
C26: Splněno převážně | D26: =IF(OR($D$7=C26,$D$8=C26,$D$9=C26,$D$10=C26,$D$11=C26),"ANO","NE") -> NE
C27: Splněno částečně | D27: =IF(OR($D$7=C27,$D$8=C27,$D$9=C27,$D$10=C27,$D$11=C27),"ANO","NE") -> NE
C28: Splněno nedostatečně | D28: =IF(OR($D$7=C28,$D$8=C28,$D$9=C28,$D$10=C28,$D$11=C28),"ANO","NE") -> NE
C29: Splněno s výhradou | D29: =IF(OR($D$7=C29,$D$8=C29,$D$9=C29,$D$10=C29,$D$11=C29),"ANO","NE") -> NE
C31: Doporučení ke schválení
C32: Doporučení ke schválení s výhradou
C33: Nedoporučení ke schválení
C34: není kompletní
C35: nelze vyhodnotit

Sheet Souhrn_pro_bodovaná_kritéria
B2: Souhrn věcného hodnocení
B4: ="Projektová žádost: "&'Id. žádosti'!C4 -> Projektová žádost:
B6: Označení | C6: Název kritéria | D6: Funkce kritéria | E6: Hodnocení | F6: Bodování | G6: Váha kritéria | H6: Hodnocení
B7: K.1 | C7: Relevance projektu | D7: kombinovaná | E7: =IF(K.1!E25="","-",K.1!E25) -> - | F7: - | G7: - | H7: =IF(K.1!F25="","-",K.1!F25) -> -
B8: K.2 | C8: Soulad s horizontálními principy | D8: kombinovaná | E8: =IF(K.2!D18="","-",K.2!D18) -> - | F8: - | G8: - | H8: =IF(K.2!E18="","-",K.2!E18) -> -
B9: K.3 | C9: Plnění cílů a kvalita žádosti | D9: kombinovaná | E9: =IF(K.3!D14="","-",K.3!D14) -> - | F9: - | G9: - | H9: =IF(K.3!E14="","-",K.3!E14) -> -
B10: K.4 | C10: Ekonomická a finanční efektivita | D10: kombinovaná | E10: =IF(K.4!D15="","-",K.4!D15) -> - | F10: - | G10: - | H10: =IF(K.4!E15="","-",K.4!E15) -> -
B11: K.5 | C11: Připravenost projektu | D11: kombinovaná | E11: =IF(K.5!D13="","-",K.5!D13) -> - | F11: - | G11: - | H11: =IF(K.5!E13="","-",K.5!E13) -> -
B12: K.6 | C12: Relevance projektu II, bodovaná kritéria | D12: kombinovaná | E12: =IF(K.6_relevance!D18="","-",K.6_relevance!D18) -> - | F12: =K.6_relevance!D19 -> - | G12: 0.3 | H12: =IFERROR(F12*G12,0) -> 0
B13: K.7 | C13: Hospodárnost, bodovaná kritéria | D13: hodnotící | F13: =K.7_hospodárnost!D10 -> - | G13: 0.7 | H13: =IFERROR(F13*G13,0) -> 0
B14: K.1 až K.7 | C14: Souhrnné vyhodnocení | E14: =IF(OR(E7="-",E8="-",E9="-",E10="-",E11="-",E12="-"),"není kompletní",IF(E12=F31,F31,IF(E31="ANO",F31,IF(E32="ANO",F32,IF(E30="ANO",F30,IF(E29="ANO",F29,F28)))))) -> není kompletní | H14: =SUM(H12:H13) -> 0
C16: Analýza rizik | E16: =IF('Analýza rizik'!D16="","-",'Analýza rizik'!D16) -> Stupeň rizika I
C18: Závěrečné shrnutí hodnocení
B20: Souhrnný komentář:
B21: Slovní komentář:
B28: Výběr | C28: Splněno zcela | E28: =IF(OR($E$7=C28,$E$8=C28,$E$9=C28,$E$10=C28,$E$11=C28),"ANO","NE") -> NE | F28: Splněno
C29: Splněno převážně | E29: =IF(OR($E$7=C29,$E$8=C29,$E$9=C29,$E$10=C29,$E$11=C29),"ANO","NE") -> NE | F29: Splněno
C30: Splněno částečně | E30: =IF(OR($E$7=C30,$E$8=C30,$E$9=C30,$E$10=C30,$E$11=C30),"ANO","NE") -> NE | F30: Splněno
C31: Splněno nedostatečně | E31: =IF(OR($E$7=C31,$E$8=C31,$E$9=C31,$E$10=C31,$E$11=C31),"ANO","NE") -> NE | F31: Nesplněno
C32: Splněno s výhradou | E32: =IF(OR($E$7=C32,$E$8=C32,$E$9=C32,$E$10=C32,$E$11=C32),"ANO","NE") -> NE | F32: Splněno s výhradou
C34: Doporučení ke schválení
C35: Doporučení ke schválení s výhradou
C36: Nedoporučení ke schválení
C37: není kompletní
C38: nelze vyhodnotit

Sheet K.1
B2: K.1 - Relevance projektu
B4: ="Projektová žádost: "&'Id. žádosti'!C4 -> Projektová žádost:
B6: Označení | C6: Název kritéria | D6: Specifikace | E6: Hodnocení | F6: Způsob hodnocení | G6: Forma hodnocení | H6: Komentář výběru | I6: Zdroj informací
B7: K.1.A | C7: Soulad s příslušnou prioritou | D7: =IFERROR(HLOOKUP('Id. žádosti'!C6,indikátory!B3:J4,2,FALSE),"") -> Priorita 3 - FS: Udržitelná městská mobilita (a alternativní paliva) | F7: ANO / Ano s výhradou / NE | G7: kombinované kritérium | H7: Hodnotitel posoudí, zda projekt náleží do uvedené prioritní osy programu. | I7: (kontrola, žádost, záměr projektu atd …)
B8: K.1.B | C8: Naplňování příslušného opatření | D8: ='Id. žádosti'!C6 -> Infrastruktura pro alternativní paliva | F8: ANO / Ano s výhradou / NE | G8: kombinované kritérium | H8: Hodnotitel posoudí, zda projekt naplňuje specifický cíl a opatření programu. | I8: (kontrola, žádost, záměr projektu atd …)
B9: K.1.C1 | C9: Naplňování indikátorů výsledku OPD | D9: =IFERROR(HLOOKUP('Id. žádosti'!$C$6,indikátory!$B$3:$J$12,8,FALSE),"") -> Kapacita zařízení určených k nabíjení vozidel | F9: ANO / Ano s výhradou / NE | G9: kombinované kritérium | H9: Hodnotitel posoudí, zda projekt přispívá přímo či nepřímo k naplňování stanovených cílových hodnot indikátorů výsledku na úrovni prioritních os a programu. | I9: (kontrola, žádost, záměr projektu atd …)
D10: =IFERROR(HLOOKUP('Id. žádosti'!$C$6,indikátory!$B$3:$J$12,9,FALSE),"") -> Výkon plnicích stanic
D11: =IFERROR(HLOOKUP('Id. žádosti'!$C$6,indikátory!$B$3:$J$12,10,FALSE),"") -> 0
D12: =IFERROR(HLOOKUP('Id. žádosti'!$C$6,indikátory!$B$3:$J$12,11,FALSE),"")
D13: =IFERROR(HLOOKUP('Id. žádosti'!$C$6,indikátory!$B$3:$J$12,12,FALSE),"") | J13: výstup / výsledek
B14: K.1.C2 | C14: Naplňování indikátorů výstupu OPD | D14: =IFERROR(HLOOKUP('Id. žádosti'!$C$6,indikátory!$B$3:$J$12,3,FALSE),"") -> Infrastruktura pro alternativní paliva (plnicí/dobíjecí stanice) | F14: ANO / Ano s výhradou / NE | G14: kombinované kritérium | H14: Hodnotitel posoudí, zda projekt přispívá k naplňování stanovených cílových hodnot indikátorů výstupu na úrovni prioritních os a programu.
D15: =IFERROR(HLOOKUP('Id. žádosti'!$C$6,indikátory!$B$3:$J$12,4,FALSE),"") -> 0
D16: =IFERROR(HLOOKUP('Id. žádosti'!$C$6,indikátory!$B$3:$J$12,5,FALSE),"") -> 0
D17: =IFERROR(HLOOKUP('Id. žádosti'!$C$6,indikátory!$B$3:$J$12,6,FALSE),"") -> 0
D18: =IFERROR(HLOOKUP('Id. žádosti'!$C$6,indikátory!$B$3:$J$12,7,FALSE),"") -> 0
D19: =IFERROR(HLOOKUP('Id. žádosti'!$C$6,indikátory!$B$3:$J$12,7,FALSE),"") -> 0
B22: K.1.D | C22: Soulad projektu s DSS, dopravní politikou a dalšími strategickými dokumenty | F22: Splněno zcela / Splněno převážně / Splněno částečně / Splněno s výhradou / Splněno nedostatečně | G22: kombinované kritérium | H22: Hodnotitel posoudí, zda je projekt součástí DSS, dopravní politiky nebo jiných relevantních strategických dokumentů. "Splněno zcela" vyplní hodnotitel v případě, že projekt byl samostatně posuzován a je v relevantních dokumentech výslovně uveden, "Splněno převážně" se vyplní v případě, že projekt je součástí navrhovaných balíčků pro financování určitých typů projektů. "Splněno částečně" se vyplní v případě, že projekt nebyl posuzován samostatně, ale jeho realizací budou jednoznačně naplněny strategické cíle. "Splněno nedostatečně" představuje hodnocení, kdy projekt nebyl součástí DSS a jeho cíle nevedou k plnění strategických cílů. | I22: (kontrola, žádost, záměr projektu atd …)
B25: Vyhodnocení | E25: =IF(OR(E7="",E8="",E22=""),"-",IF(OR(E7="NE",E8="NE",E22="Splněno nedostatečně",G34="NE",G35="NE"),"Splněno nedostatečně",IF(OR(E7="Ano s výhradou",E8="Ano s výhradou",G34="Ano s výhradou",G35="Ano s výhradou",E22="Splněno s výhradou"),"Splněno s výhradou",IF(AND(E7="ANO",E8="ANO",G34="ANO",E22="Splněno částečně"),"Splněno částečně",IF(AND(E7="ANO",E8="ANO",G34="ANO",E22="Splněno převážně"),"Splněno převážně","Splněno zcela"))))) -> -
B26: Slovní komentář:
G33: Ověření plnění indikátorů:
B34: Výběr | C34: Splněno zcela | F34: výsledky | G34: =IF(OR(E9="Ano s výhradou",E10="Ano s výhradou",E12="Ano s výhradou",E13="Ano s výhradou"),"Ano s výhradou",IF(OR(E9="ANO",E10="ANO",E12="ANO",E13="ANO"),"ANO","NE")) -> NE
C35: Splněno převážně | F35: výstupy | G35: =IF(OR(E14="Ano s výhradou",E15="Ano s výhradou",E17="Ano s výhradou",E18="Ano s výhradou",E19="Ano s výhradou",E20="Ano s výhradou",E21="Ano s výhradou"),"Ano s výhradou",IF(OR(E14="ANO",E15="ANO",E17="ANO",E18="ANO",E19="ANO",E20="ANO",E21="ANO"),"ANO","NE")) -> NE
C36: Splněno částečně
C37: Splněno s výhradou
C38: Splněno nedostatečně
C41: ANO
C42: Ano s výhradou
C43: NE

Sheet K.2
B2: K.2 - Soulad s horizontálními principy
B4: ="Projektová žádost: "&'Id. žádosti'!C4 -> Projektová žádost:
B6: Označení | C6: Název kritéria | D6: Hodnocení | E6: Způsob hodnocení | F6: Forma hodnocení | G6: Komentář výběru | H6: Zdroj informací
B7: K.2.A | C7: Příspěvek realizace projektu ke zkvalitnění životního prostředí a zlepšení veřejného zdraví | D7: =IF(OR(D8="",D9="",D10="",D11=""),"-",IF(OR(D10="NE",D9="NE"),"Splněno nedostatečně",IF(OR(D8="Ano s výhradou",D9="Ano s výhradou",D10="Ano s výhradou",D11="Ano s výhradou"),"Splněno s výhradou",IF(AND(D8="ANO",D9="ANO",D10="ANO",D11="NE"),"Splněno převážně",IF(OR(OR(D8="NE",D8="Neutrální"),OR(D9="Neutrální")),"Splněno částečně","Splněno zcela"))))) -> - | E7: Splněno zcela / Splněno převážně / Splněno částečně / Splněno s výhradou / Splněno nedostatečně | F7: kombinované kritérium | G7: Je hodnoceno, zda je doložen popis příspěvku projektu ke zkvalitnění životního prostředí a zlepšení veřejného zdraví. Vyhodnocuje se automaticky po vyplnění subkritérií A1-A4. | H7: (kontrola, žádost, záměr projektu atd …)
B8: K.2.A1 | C8: Zlepšení kvality ovzduší nebo snížení emisí | E8: ANO/Ano s výhradou/NE/neutrální | F8: kombinované kritérium | G8: Hodnotitel posoudí, jestli projekt může pomoci naplňovat cíle programů zlepšování kvality ovzduší (vytvořených dle ustanovení zákona č. 201/2012 Sb., o ochraně ovzduší a zveřejněných na webu MŽP - http://www.mzp.cz/cz/programy_zlepsovani_kvality_ovzdusi), případně zda projekt přispěje ke snížení emisí. | H8: (kontrola, žádost, záměr projektu atd …)
B9: K.2.A2 | C9: Splnění požadavků DNSH a klimatické odolnosti | E9: ANO/Ano s výhradou/NE/nerelevantní | F9: kombinované kritérium | G9: Hodnotitel posoudí, jestli realizace projektu splňuje požadavky DNSH a klimatické odolnosti (climate proofing). | H9: (kontrola, žádost, záměr projektu atd …)
B10: K.2.A3 | C10: Splnění požadavků environmentální legislativy EU | E10: ANO/Ano s výhradou/NE | F10: vylučovací kritérium | G10: Hodnotitel posoudí, že projekt respektuje požadavky environmentální legislativy Evropské unie, tj. směrnice Rady č. 92/43/EHS ze dne 21. května 1992, o ochraně přírodních stanovišť, volně žijících živočichů a planě rostoucích rostlin, a směrnice Evropského parlamentu a Rady č. 2011/92/EU ze dne 13. prosince 2011, o posuzování některých veřejných a soukromých záměrů na životní prostředí. Pokud nejsou požadavky dodrženy, projekt nemůže být přijatelný. | H10: (kontrola, žádost, záměr projektu atd …)
B11: K.2.A4 | C11: Zohlednění problematiky udržitelné energie | E11: ANO/Ano s výhradou/NE/nerelevantní | F11: vylučovací kritérium | G11: U stavebních projektů musí být při přípravě i realizaci zohledněna problematika udržitelné energie, a to zejména ve vztahu ke snížení energetické náročnosti, zvýšení energetické účinnosti, nalezení vhodných energetických zdrojů nezatěžujících životní prostředí apod. Pokud nelze posoudit, vyplní nerelevantní. | H11: (kontrola, žádost, záměr projektu atd …)
B12: K.2.B | C12: Princip rovných příležitostí | D12: =IF(OR(D13="",D14=""),"-",IF(AND(D13="ANO",D14="ANO"),"Splněno zcela",IF(OR(D13="NE",D14="NE"),"Splněno nedostatečně",IF(OR(D13="Ano s výhradou",D14="Ano s výhradou"),"Splněno s výhradou",IF(AND(D13="Neutrální",D14="Neutrální"),"Splněno částečně","Splněno převážně"))))) -> - | E12: Splněno zcela / Splněno převážně / Splněno částečně / Splněno s výhradou / Splněno nedostatečně | F12: kombinované kritérium | G12: Je hodnoceno, zda je respektován princip rovných příležitostí a zákazu diskriminace. Vyhodnocuje se automaticky po vyplnění subkritérií B1-B2 | H12: (kontrola, žádost, záměr projektu atd …)
B13: K.2.B1 | C13: Podpora rovných příležitostí | E13: ANO/Ano s výhradou/NE/neutrální | F13: kombinované kritérium | G13: Hodnotitel posoudí, zda projekt zohledňuje podporu rovných příležitostí všech skupin osob v případech, kde je to možné, a nemá negativní dopad na rovné příležitosti. Problematika rovných příležitostí se odráží v obtížném přístupu vybraných skupin obyvatel na trh práce, v jejich přístupu ke vzdělání, v případě žen v přístupu k vyšším řídicím a vědeckým pozicím, v oblasti podnikání, informační společnosti, ale i v oblasti dopravy nebo rozvoje měst. | H13: (kontrola, žádost, záměr projektu atd …)
B14: K.2.B2 | C14: Princip zákazu diskriminace | E14: ANO/Ano s výhradou/NE/neutrální | F14: kombinované kritérium | G14: Hodnotitel posoudí, zda projekt dodržuje princip zákazu diskriminace. | H14: (kontrola, žádost, záměr projektu atd …)
B15: K.2.C | C15: Rovnost mezi muži a ženami | E15: Splněno zcela / Splněno převážně / Splněno částečně / Splněno s výhradnou / Splněno nedostatečně | F15: kombinované kritérium | G15: Hodnotitel posoudí, jakým způsobem projekt dodržuje princip rovnosti mezi muži a ženami. U projektů infrastruktury alternativních paliv je obvykle Splněno zcela, protože podpora této infrastruktury je obecně v souladu s principem rovnosti mezi muži a ženami a v souladu s principem nediskriminace. Např. individuální doprava umožňuje mobilitu osobám určitým způsobem handicapovaným či diskriminovaným např. genderově, zdravotně, sociálně či demograficky. | H15: (kontrola, žádost, záměr projektu atd …)
B18: Vyhodnocení | D18: =IF(OR(D7="-",D12="",D15=""),"-",IF(OR(D7="Splněno nedostatečně",D12="Splněno nedostatečně",D15="Splněno nedostatečně"),"Splněno nedostatečně",IF(OR(D7="Splněno s výhradou",D12="Splněno s výhradou",D15="Splněno s výhradou"),"Splněno s výhradou",IF(OR(D7="Splněno částečně",D12="Splněno částečně",D15="Splněno částečně"),"Splněno částečně",IF(OR(D7="Splněno převážně",D12="Splněno převážně",D15="Splněno převážně"),"Splněno převážně","Splněno zcela"))))) -> -
B19: Slovní komentář:
B28: Výběr | C28: Splněno zcela
C29: Splněno převážně
C30: Splněno částečně
C31: Splněno s výhradou
C32: Splněno nedostatečně
C34: ANO | D34: ANO
C35: NE | D35: NE
C36: Ano s výhradou | D36: Ano s výhradou
C37: Nerelevantní | D37: Neutrální

Sheet K.3
B2: K.3 - Plnění cílů a kvalita žádosti
B4: ="Projektová žádost: "&'Id. žádosti'!C4 -> Projektová žádost:
B6: Označení | C6: Název kritéria | D6: Hodnocení | E6: Způsob hodnocení | F6: Forma hodnocení | G6: Komentář výběru | H6: Zdroj informací
B7: K.3 | C7: Plnění cílů a kvalita žádosti | D7: =IF(OR(D8="",D9="",D10="",D11="",D12=""),"-",IF(OR(D8="Splněno nedostatečně",D9="Splněno nedostatečně",D10="Splněno nedostatečně",D11="Splněno nedostatečně",D12="Splněno nedostatečně"),"Splněno nedostatečně",IF(OR(D8="Splněno s výhradou",D9="Splněno s výhradou",D10="Splněno s výhradou",D11="Splněno s výhradou",D12="Splněno s výhradou"),"Splněno s výhradou",IF(OR(D8="Splněno částečně",D9="Splněno částečně",D10="Splněno částečně",D11="Splněno částečně",D12="Splněno částečně"),"Splněno částečně",IF(OR(D8="Splněno převážně",D9="Splněno převážně",D10="Splněno převážně",D11="Splněno převážně",D12="Splněno převážně"),"Splněno převážně","Splněno zcela"))))) -> - | E7: Splněno zcela / Splněno převážně / Splněno částečně / Splněno s výhradou / Splněno nedostatečně | F7: kombinované kritérium | G7: Je hodnoceno, zda je doložena žádost o podporu financování projektu v rámci nastavené struktury OPD 2021-2027 řádně zdůvodněná a vede k plnění cílů programu. Vyhodnocuje se automaticky po vyplnění jednotlivých subkritérií. | H7: (kontrola, žádost, záměr projektu atd …)
B8: K.3.A | C8: Provázanost cílů a obsahu projektu | E8: Splněno zcela / Splněno převážně / Splněno částečně / Splněno s výhradou / Splněno nedostatečně | F8: kombinované kritérium | G8: Hodnotitel posoudí přínos projektu k definovaným cílům a provázanost obsahu projektu. Použije se škála hodnocení: Hodnocení bez připomínek - Splněno zcela Hodnocení s formálními připomínkami s odkazem na slovní komentář - Splněno převážně Hodnocení se zásadnějšími připomínkami s odkazem na slovní komentář - Splněno částečně Hodnocení s odstranitelnými nedostatky, které brání schválení projeku - Splněno s výhradou Neprovázanost cílů a obsahu s odkazem na slovní komentář - Splněno nedostatečně | H8: (kontrola, žádost, záměr projektu atd …)
B9: K.3.B | C9: Rozpočet projektu | E9: Splněno zcela / Splněno převážně / Splněno částečně / Splněno s výhradou / Splněno nedostatečně | F9: kombinované kritérium | G9: Hodnotitel posoudí kvalitu a nezbytnost jednotlivých položek rozpočtu, jestli je cena projektu přiměřená zvolenému technickému řešení a rozsahu projektu. Posouzení lze provést s použitím standardizovaných ceníků nebo odborným posouzením pravidlem 80:20 s přihlédnutím k situaci na trhu. Použije se škála hodnocení: Hodnocení bez připomínek - Splněno zcela Hodnocení s formálními připomínkami s odkazem na slovní komentář - Splněno převážně Hodnocení se zásadnějšími připomínkami s odkazem na slovní komentář - Splněno částečně Hodnocení s odstranitelnými nedostatky, které brání schválení projeku - Splněno s výhradou Nedoloženo s odkazem na slovní komentář - Splněno nedostatečně | H9: (kontrola, žádost, záměr projektu atd …)
B10: K.3.C | C10: Způsobilost nákladů | E10: Splněno zcela / Splněno převážně / Splněno částečně / Splněno s výhradou / Splněno nedostatečně | F10: kombinované kritérium | G10: Ověření, že jsou uvedené způsobilé náklady způsobilé jak časově tak věcně. Způsobilost nákladů je stanovena metodickými pokyny OPD, EU nebo dalšími relevantními dokumenty. Použije se škála hodnocení: Hodnocení bez připomínek - Splněno zcela Hodnocení s formálními připomínkami s odkazem na slovní komentář - Splněno převážně Hodnocení se zásadnějšími připomínkami s odkazem na slovní komentář - Splněno částečně Hodnocení s odstranitelnými nedostaky, které brání schválení projektu - Splněno s výhradou Zásadní nesoulad s pravidly pro způsobilé výdaje - Splněno nedostatečně | H10: (kontrola, žádost, záměr projektu atd …)
B11: K.3.D | C11: Technické řešení | E11: Splněno zcela / Splněno převážně / Splněno částečně / Splněno s výhradou / Splněno nedostatečně | F11: kombinované kritérium | G11: Hodnotitel posoudí vhodnost zvoleného technického řešení. Použije se škála hodnocení: Hodnocení bez připomínek - Splněno zcela Hodnocení s formálními připomínkami s odkazem na slovní komentář - Splněno převážně Hodnocení se zásadnějšími připomínkami s odkazem na slovní komentář - Splněno částečně Hodnocení s odstranitelnými nedostatky, které brání schválení projeku - Splněno s výhradou Zcela nevhodné technické řešení nebo nesoulad s technickými normami nebo nařízeními - Splněno nedostatečně | H11: (kontrola, žádost, záměr projektu atd …)
B12: K.3.E | C12: Provozní udržitelnost | E12: Splněno zcela / Splněno převážně / Splněno částečně / Splněno s výhradou / Splněno nedostatečně | F12: kombinované kritérium | G12: Hodnotitel posoudí provozní udržitelnost záměru z hlediska vhodnosti použité technologie, dostupnosti materiálu a dalších vstupů včetně personálního zajištění. Použije se škála hodnocení: Hodnocení bez připomínek - Splněno zcela Hodnocení s formálními připomínkami s odkazem na slovní komentář - Splněno převážně Hodnocení se zásadnějšími připomínkami s odkazem na slovní komentář - Splněno částečně Hodnocení s odstranitelnými nedostatky, které brání schválení projeku - Splněno s výhradou Provozní udržitelnost projektu není zajištěna - Splněno nedostatečně | H12: (kontrola, žádost, záměr projektu atd …)
B14: Vyhodnocení | D14: =D7 -> -
B15: Slovní komentář:
B23: Výběr | C23: Splněno zcela
C24: Splněno převážně
C25: Splněno částečně
C26: Splněno s výhradou
C27: Splněno nedostatečně

Sheet K.4
B2: K.4 - Ekonomická a finanční efektivita
B4: ="Projektová žádost: "&'Id. žádosti'!C4 -> Projektová žádost:
B6: Označení | C6: Název kritéria | D6: Hodnocení | E6: Způsob hodnocení | F6: Forma hodnocení | G6: Komentář výběru | H6: Zdroj informací
B7: K.4.A | C7: Společenská ekonomická efektivnost | D7: =IF(OR(D8="",D9="",D10=""),"-",IF(OR(D8="Ne",D9="Splněno nedostatečně",D10="Splněno nedostatečně"),"Splněno nedostatečně",IF(OR(D8="Ano s výhradou",D9="Splněno s výhradou",D10="Splněno s výhradou"),"Splněno s výhradou",IF(AND(OR(D8="ANO",D8="Nerelevantní"),OR(D9="Splněno částečně",D10="Splněno částečně")),"Splněno částečně",IF(AND(OR(D8="ANO",D8="Nerelevantní"),OR(D9="Splněno převážně",D10="Splněno převážně")),"Splněno převážně","Splněno zcela"))))) -> - | E7: Splněno zcela / Splněno převážně / Splněno částečně / Splněno s výhradou / Splněno nedostatečně | F7: kombinované kritérium | G7: Je hodnoceno, zda je doložena ekonomická efektivita projektu. Vyhodnocuje se automaticky po vyplnění subkritérií A1-A3. | H7: Studie proveditelnosti, Ekonomické hodnocení projektu, záměr projektu, žádost
B8: K.4.A1 | C8: Efektivnost výdajů vyjádřená EIR a ENPV | E8: ANO / Ano s výhradou / NE / Nerelevantní | F8: vylučovací kritérium | G8: Hodnotitel posoudí, jestli je v rámci ekonomického hodnocení dosažena ekonomická míra efektivnosti EIRR > 3 % (diskontní sazba pro OPD 2021-2027) a/nebo nezáporná hodnota ENPV. V případě, že je projekt hodnocen alternativní metodou v souladu s dokumenty programu (např. použití MKA) a výsledek ekonomického hodnocení není vyjádřen EIRR, hodnotitel vyplní "Nerelevantní" a popíše tento fakt v komentáři.
B9: K.4.A2 | C9: Hospodárnost, účelnost a efektivnost výdajů | E9: Splněno zcela / Splněno převážně / Splněno částečně / Splněno s výhradou / Splněno nedostatečně | F9: kombinované kritérium | G9: Hodnotitel posoudí, zda úroveň a obsah zpracovaného hodnocení umožňuje posouzení hospodárnosti, účelnosti a efektivnosti projektu a jeho výdajů a současně zda záměr uvedená kritéria naplňuje. Hodnocení efektivnosti může být provedeno metodou CBA, MKA nebo jiným alternativním hodnocením a to podle schválených metodických dokumentů pro různé typy projektů. Použije se škála hodnocení: Hodnocení bez připomínek - Splněno zcela Hodnocení s formálními připomínkami s odkazem na slovní komentář - Splněno převážně Hodnocení se zásadnějšími připomínkami s odkazem na slovní komentář - Splněno částečně Hodnocení s odstranitelnými nedostatky, které neumožnují schválení projektu - Splněno s výhradou Projekt není v souladu s principy 3E nebo jejich plnění nelze ověřit - Splněno nedostatečně
B10: K.4.A3 | C10: Věrohodnost a ověřitelnost vstupních údajů použitých pro ekonomické hodnocení včetně správnosti prováděných výpočtů | E10: Splněno zcela / Splněno převážně / Splněno částečně / Splněno s výhradou / Splněno nedostatečně | F10: kombinované kritérium | G10: Hodnotitel posoudí, zda jsou veškeré potřebné technické, ekonomické a finanční výpočty, vstupní parametry a předpoklady transparentně, přesvědčivě a dostatečně podrobně doloženy nebo zdůvodněny. Současně prověří, že zvolené postupy výpočtu jsou v souladu s evropskými a národními metodikami. Použije se škála hodnocení: Hodnocení bez připomínek - Splněno zcela Hodnocení s formálními připomínkami s odkazem na slovní komentář - Splněno převážně Hodnocení se zásadnějšími připomínkami s odkazem na slovní komentář - Splněno částečně Hodnocení s odstranitelnými nedostatky, které neumožnují schválení projektu - Splněno s výhradou Ekonomické hodnocení s kritickými nedostatky - Splněno nedostatečně
B11: K.4.B | C11: Finanční potřeba dotace | E11: Splněno zcela / Splněno převážně / Splněno částečně / Splněno s výhradou / Splněno nedostatečně | F11: kombinované kritérium | G11: Ověření aplikace principů potřebnosti grantu a na základě doložené dokumentace ověření, že požadovaná míra podpory grantu odpovídá závěrům dokumentace a že nárokované náklady jsou způsobilé. Finanční vnitřní výnosová míra (FIRR/C - před grantem EU) musí být menší než 2 %. (tzv. kontrola samofinancovatelnosti projektu). Použije se škála hodnocení: Hodnocení bez připomínek - Splněno zcela Hodnocení s formálními připomínkami s odkazem na slovní komentář - Splněno převážně Hodnocení se zásadnějšími připomínkami s odkazem na slovní komentář - Splněno částečně Hodnocení s odstranitelnými nedostatky, které neumožnují schválení projektu - Splněno s výhradou Je-li FIRR/C větší nebo rovno 2 % - Splněno nedostatečně
B12: K.4.C | C12: Rentabilita po dotaci | E12: Splněno zcela / Splněno převážně / Splněno částečně / Splněno s výhradou / Splněno nedostatečně | F12: kombinované kritérium | G12: Ověření, že se žadatel neobohacuje na úkor dotace. Vnitřní výnosová míra na vlastní kapitál (FIRR/K - po grantu EU) nesmí přesáhnout hranici přiměřeného zisku. V případě překročení této hranice hodnotitel provede kontrolu analýzy kontroly dotace nebo vloží do komentáře pokyn k přepočítání grantu EU na přiměřenou úroveň. Použije se škála hodnocení: Hodnocení bez připomínek - Splněno zcela Hodnocení s formálními připomínkami s odkazem na slovní komentář - Splněno převážně Hodnocení se zásadnějšími připomínkami s odkazem na slovní komentář - Splněno částečně Hodnocení s odstranitelnými nedostatky, které neumožnují schválení projektu - Splněno s výhradou Je-li FIRR/K> použitá diskontní sazba a není doložena analýza kontroly dotace - Splněno nedostatečně, v případě soukromého žadatele, nesmí ukazatel FIRR/K nikdy překročit hranici přiměřeného zisku.
B13: K.4.D | C13: Finanční udržitelnost (realizace + provoz) | E13: Splněno zcela / Splněno převážně / Splněno částečně / Splněno s výhradou / Splněno nedostatečně | F13: kombinované kritérium | G13: Je předložen reálný model zdrojů financování v realizační i provozní fázi tak, aby byla zajištěna realizace projektu i udržení výstupů a výsledků projektu v plném rozsahu. Součástí hodnocení je i odborné prověření, že odhadované provozní náklady jsou adekvátní pro řádný provoz a údržbu projektu. Použije se škála hodnocení: Hodnocení bez připomínek - Splněno zcela Hodnocení s formálními připomínkami s odkazem na slovní komentář - Splněno převážně Hodnocení se zásadnějšími připomínkami s odkazem na slovní komentář - Splněno částečně Hodnocení s odstranitelnými nedostatky, které neumožnují schválení projektu - Splněno s výhradou Objevuje-li se ve finančním modelu záporné cash-flow - Splněno nedostatečně
B15: Vyhodnocení | D15: =IF(OR(D7="-",D11="",D12="",D13=""),"-",IF(OR(D7="Splněno nedostatečně",D11="Splněno nedostatečně",D12="Splněno nedostatečně",D13="Splněno nedostatečně"),"Splněno nedostatečně",IF(OR(D7="Splněno s výhradou",D11="Splněno s výhradou",D12="Splněno s výhradou",D13="Splněno s výhradou"),"Splněno s výhradou",IF(OR(D7="Splněno částečně",D11="Splněno částečně",D12="Splněno částečně",D13="Splněno částečně"),"Splněno částečně",IF(OR(D7="Splněno převážně",D11="Splněno převážně",D12="Splněno převážně",D13="Splněno převážně"),"Splněno převážně","Splněno zcela"))))) -> -
B16: Slovní komentář:
B22: Výběr
C23: Splněno zcela | D23: ANO
C24: Splněno převážně | D24: Ano s výhradou
C25: Splněno částečně | D25: NE
C26: Splněno s výhradou | D26: Nerelevantní
C27: Splněno nedostatečně

Sheet K.5
B2: K.5 - Připravenost projektu
B4: ="Projektová žádost: "&'Id. žádosti'!C4 -> Projektová žádost:
B6: Označení | C6: Název kritéria | D6: Hodnocení | E6: Způsob hodnocení | F6: Forma hodnocení | G6: Komentář výběru | H6: Zdroj informací
B7: K.5 | C7: Připravenost projektu | D7: =IF(OR(D8="",D9="",D10="",D11=""),"-",IF(OR(D8="Splněno nedostatečně",D9="NE",D10="NE",D11="Splněno nedostatečně"),"Splněno nedostatečně",IF(OR(D8="Splněno s výhradou",D9="Ano s výhradou",D10="Ano s výhradou",D11="Splněno s výhradou"),"Splněno s výhradou",IF(OR(D8="Splněno částečně",D11="Splněno částečně"),"Splněno částečně",IF(OR(D8="Splněno převážně",D11="Splněno převážně"),"Splněno převážně","Splněno zcela"))))) -> - | E7: Splněno zcela / Splněno převážně / Splněno částečně / Splněno s výhradou / Splněno nedostatečně | F7: kombinované kritérium | G7: Je hodnoceno, zda je doložena žádost o podporu financování projektu v rámci nastavené struktury OPD 2021-2027 v dostatečném stupni připravenosti. Vyhodnocuje se automaticky po vyplnění jednotlivých subkritérií. | H7: (kontrola, žádost, záměr projektu atd …)
B8: K.5.A | C8: Harmonogram projektu | E8: Splněno zcela / Splněno převážně / Splněno částečně / Splněno s výhradou / Splněno nedostatečně | F8: kombinované kritérium | G8: Hodnotitel ověří reálnost harmonogramu a jeho soulad s podmínkami programu. Použije se škála hodnocení: Hodnocení bez připomínek - Splněno zcela Hodnocení s formálními připomínkami - Splněno převážně Hodnocení se zásadnějšími připomínkami - Splněno částečně Hodnocení s odstranitelnými nedostatky, které neumožnují schválení projektu - Splněno s výhradou Nedoloženo nebo zcela nepřipraveno, případně nereálnost HMG - Splněno nedostatečně | H8: (kontrola, žádost, záměr projektu atd …)
B9: K.5.B | C9: Hodnoceni EIA | E9: ANO/Ano s výhradou/Nerelevantní | F9: kombinované kritérium | G9: Doložení stanoviska EIA. Žadatel může využít možnosti pozdějšího dodání (pokud to umožňují podmínky výzvy) a v tomto případě přiloží čestné prohlášení potvrzující, že o toto stanovisko bylo požádáno; hodnotitel posoudí toto kriterium, jako splněné a provede o tomto kroku zápis, který bude součástí závěrečného posouzení. | H9: (kontrola, žádost, záměr projektu atd …)
B10: K.5.C | C10: Hodnoceni NATURA | E10: ANO/Ano s výhradou/Nerelevantní | F10: kombinované kritérium | G10: Doložení stanoviska o vlivu záměru na lokality soustavy NATURA 2000. | H10: (kontrola, žádost, záměr projektu atd …)
B11: K.5.D | C11: Stavební povolení, územní rozhodnutí | E11: Splněno zcela / Splněno převážně / Splněno částečně / Splněno s výhradou / Splněno nedostatečně | F11: kombinované kritérium | G11: Posouzení připravenosti projektu na základě: má stavební povolení nebo není vyžadováno - Splněno zcela má územní rozhodnutí nebo není vyžadováno - Splněno převážně je zanesen v Zásadách územního rozvoje nebo je zažádáno o územní rozhodnutí - Splněno částečně hodnocení s odstranitelnými nedostatky, které neumožnují schválení projektu - Splněno s výhradou není zanesen v územních plánech - Splněno nedostatečně | H11: (kontrola, žádost, záměr projektu atd …)
B13: Vyhodnocení | D13: =D7 -> -
B14: Slovní komentář:
B21: Výběr | C21: Splněno zcela | D21: ANO
C22: Splněno převážně | D22: Ano s výhradou
C23: Splněno částečně | D23: NE
C24: Splněno s výhradou | D24: Nerelevantní
C25: Splněno nedostatečně
C34: Stavební řízení i řízení o změně stavby před dokončením jsou také navazujícími řízeními podle Zákona o posuzování vlivů. To znamená, že se vždy znovu dokládá stanovisko k EIA.
C37: Ve stavebním řízení je místně příslušným stavebním úřadem k vydání stavebního povolení také vždy pouze obecný stavební úřad obce s rozšířenou působností. Stavební řízení i řízení o změně stavby před dokončením jsou také navazujícími řízeními podle Zákona o posuzování vlivů. To znamená, že se vždy znovu dokládá stanovisko k EIA. | E37: Novela zásadně ovlivní hlavně velké stavby, které jsou už dlouho v přípravě, ale nemají ještě například stavební povolení.
E39: I když už jednou úřad rozhodl, že stavba nebude mít na životní prostředí takový vliv, podle novely ji musí úřady znovu prověřit – zda hodnocení vlivů na životní prostředí proběhlo správně.
E42: Dodatečné posouzení bylo nepřekročitelným požadavkem Evropské komise

Sheet K.6_relevance
B2: K.6 - Relevance projektu II
B4: ="Projektová žádost: "&'Id. žádosti'!C4 -> Projektová žádost:
B6: Označení | C6: Název kritéria | D6: Hodnocení | E6: Způsob hodnocení | F6: Forma hodnocení | G6: Komentář výběru/bodové hodnocení | I6: Zdroj informací
B8: K.6.A | C8: Soulad projektu s pravidly veřejné podpory | E8: ANO/NE | F8: Vylučovací kritérium | G8: Hodnotitel posoudí, zda projekt naplňuje pravidla veřejné podpory. | H8: Prověřuje se obecný soulad předmětu projektu s pravidly veřejné podpory podle Smlouvy o fungování Evropské unie resp. resp. soulad s obecným nařízením o blokových výjimkách (GBER). | I8: žádost o podporu
B9: K.6.B | C9: Naplňování specifických cílů Národního akčního plánu čisté mobility (NAP CM) | E9: Max. 50 bodů | F9: Hodnotící kritérium | G9: Hodnotitel posoudí, do jaké míry projekt přispívá k naplnění příslušných specifických cílů NAP CM (počet plnicích/dobíjecích stanic) | H9: Projekt předložený v podprogramu 1a1, který obsahuje výstavbu 6 DC stanic a plní příslušný výkonový parametr, obdrží 10 bodů. Projekt předložený v podprogramu 1a2, který obsahuje výstavbu 10 DC stanic, obdrží 10 bodů. Projekt předložený v podprogramu 1b, který obsahuje 1 dobíjecí park umístěný podél hlavní či globální sítě TEN-T nebo v městských uzlech TEN-T s minimálním výkonem splňujícím požadavky návrhu nařízení AFIR nebo umístěný na bezpečné a chráněné parkovací ploše (zabezpečené parkoviště), obdrží 10 bodů. Projekt předložený v podprogramu 1c, který obsahuje výstavbu 1 DC ultrarychlé dobíjecí stanice s minimálním výkonem dobíjecího parku 300 kW, obdrží 10 bodů. Projekt předložený v podprogramu 1d, který obsahuje výstavbu 20-40 AC/DC běžných dobíjecích bodů (popřípadě dle podmínek konkrétní výzvy), obdrží 10 bodů. Projekt, který obsahuje výstavbu vodíkové plnicí stanice, obdrží 5 bodů za každou plnicí stanici. Maximálně lze obdržet 50 bodů.
H10: Projekt předložený v podprogramu 1a1, který obsahuje výstavbu 7-15 DC stanic a plní příslušný výkonový parametr, obdrží 30 bodů. Projekt předložený v podprogramu 1a2, který obsahuje výstavbu 11-20 DC stanic, obdrží 30 bodů. Projekt předložený v podprogramu 1b, který obsahuje 2 dobíjecí parky umístěné podél hlavní či globální sítě TEN-T nebo v městských uzlech TEN-T s minimálním výkonem splňujícím požadavky návrhu nařízení AFIR nebo umístěný na bezpečné a chráněné parkovací ploše (zabezpečené parkoviště), obdrží 30 bodů. Projekt předložený v podprogramu 1c, který obsahuje výstavbu 2 DC ultrarychlých dobíjecích stanic a bateriovým úložištěm o minimálním výkonu dobíjecího parku 300 kW, obdrží 30 bodů. Projekt předložený v podprogramu 1d, který obsahuje výstavbu 41-80 AC/DC běžných dobíjecích bodů (popřípadě dle podmínek konkrétní výzvy), obdrží 30 bodů.
H11: Projekt předložený v podprogramu 1a1, který obsahuje výstavbu více než 15 DC stanic a plní příslušný výkonový parametr, obdrží 50 bodů. Projekt předložený v podprogramu 1a2, který obsahuje výstavbu více než 20 DC stanic, obdrží 50 bodů. Projekt předložený v podprogramu 1b, který obsahuje 3 a více dobíjecích parků umístěných podél hlavní či globální sítě TEN-T nebo v městských uzlech TEN-T s minimálním výkonem splňujícím požadavky návrhu nařízení AFIR nebo umístěný na bezpečné a chráněné parkovací ploše (zabezpečené parkoviště), obdrží 50 bodů. Projekt předložený v podprogramu 1c, který obsahuje výstavbu 3 a více DC ultrarychlých dobíjecích stanic a bateriovým úložištěm o minimálním výkonu dobíjecího parku 300 kW, obdrží 50 bodů. Projekt předložený v podprogramu 1d, který obsahuje výstavbu více než 80 AC/DC běžných dobíjecích bodů (popřípadě dle podmínek konkrétní výzvy), obdrží 50 bodů.
B12: K.6.C | C12: Lokalita instalace dobíjecích/plnicích stanic | E12: Max. 50 bodů | F12: Hodnotící kritérium | G12: Hodnotitel posoudí umístění dobíjecích/plnicích stanic. | H12: Projekt , který je umístěn mimo síť TEN-T, obdrží 0 bodů. | I12: žádost o podporu
H13: Projekt, který je částečně realizován na síti TEN-T nebo do 3 km od nejbližšího sjezdu z dané komunikace (počet dobíjecích stanic do 50 % včetně), obdrží 10 bodů. Projekt, který je částečně realizován na síti TEN-T nebo do 10 km od nejbližšího sjezdu z dané komunikace (počet plnicích stanic do 50 % včetně), obdrží 10 bodů.
H14: Projekt, který je částečně realizován na síti TEN-T nebo do 3 km od nejbližšího sjezdu z dané komunikace (počet dobíjecích stanic více než 50 %), obdrží 30 bodů. Projekt, který je částečně realizován na síti TEN-T nebo do 10 km od nejbližšího sjezdu z dané komunikace (počet plnicích stanic do 50 % včetně), obdrží 10 bodů.
H15: Projekt dobíjecích stanic, který je zcela realizován na síti TEN-T nebo do 3 km od nejbližšího sjezdu z dané komunikace obdrží 50 bodů. Projekt plnicích stanic, který je zcela realizován na síti TEN-T nebo do 10 km od nejbližšího sjezdu z dané komunikace obdrží 50 bodů. Zároveň pro projekt, který je podán ve výzvě v podprogramu 1d či podprogramu 1a2, je toto kritérium nerelevantní, obdrží tedy plný počet bodů bez ohledu na umístění jednotlivých stanic.
B18: Vyhodnocení | D18: =IF(OR(D8="",),"-",IF(AND(D8="ano"),B33,B34)) -> -
B19: Bodové hodnocení | D19: =IF(OR(D9="",D12=""),"-",D9+D12) -> -
B20: Slovní komentář:
B26: Výběr2 | C26: Splněno zcela
B30: ANO
B31: NE
B33: Splněno
B34: Nesplněno
B40: Pozn.:
B41: Umístění na síti TEN-T: dobíjecí stanice může být umístěna max. 3 km od sjezdu (vzdálenost se posuzuje po pozemní komunikaci), plnicí stanice může být umístěna max. 10 km od sjezdu (vzdálenost se posuzuje po pozemní komunikaci)
B42: Pomocný výpočet pro K.6.C.
B43: Počet stanic umístěných na síti TEN-T:
B44: Počet stanic umístěných mimo síť TEN-T:
B45: Celkový počet stanic pro hodnocený projekt:
B46: Vypočtené procento pro K.6.C: | E46: =IF(OR(E43=0,E45=0,),"n.a.",E43*100/E45) -> n.a.

Sheet K.7_hospodárnost
B2: K.7 - Hospodárnost projektu
B4: ="Projektová žádost: "&'Id. žádosti'!C4 -> Projektová žádost:
B6: Označení | C6: Název kritéria | D6: Hodnocení | E6: Způsob hodnocení | F6: Forma hodnocení | G6: Komentář výběru/bodové hodnocení | H6: Zdroj informací
B7: K.7.A | C7: Výše dotace | E7: Body 0-50 | F7: Hodnotící kritérium | G7: V rámci tohoto hodnotícího kritéria bude provedeno porovnání jednotlivých žádostí, pokud jde o požadovanou výši dotace na realizací dané plnicí/dobíjecí stanice (stanic). Porovnání bude vždy vztaženo k jednotkovým nákladům na pořízení jedné plnicí/dobíjecí stanice. Nejvyšší počet bodů (50) obdrží žádost, jejíž projekt obsahuje nejnižší požadavek na dotaci (v absolutní hodnotě na jednu plnicí/dobíjecí stanici, resp. dobíjecí bod). Nejnižší počet bodů (0) obdrží žádost, jejíž projekt obsahuje nejvyšší požadavek na dotaci (v absolutní hodnotě na jednu plnicí/dobíjecí stanici). Jednotková výše dotace v rámci projektu bude pro účely porovnání stanovena jako průměrná výše dotace na jednu stanici, resp. dobíjecí bod (celková výše dotace v rámci projektu / počet podpořených stanic). Počet bodů pro ostatní žádosti bude odpovídat výši požadované dotace ve vztahu k žádostem s nejvyšší a nejnižší požadovanou dotací. Vypočtený počet bodů bude vždy matematicky zaokrouhlen na celé číslo. | H7: žádost o podporu
B8: K.7.B | C8: Intenzita podpory | E8: Body 0-50 | F8: Hodnotící kritérium | G8: V rámci tohoto hodnotícího kritéria bude provedeno porovnání jednotlivých žádostí, pokud jde o požadovanou intenzitu podpory. Žádost požadující pro projekt maximální intenzitu podpory v rámci daného podprogramu obdrží 0 bodů. Za každé procento pod touto maximální intenzitou obdrží žádost 1 bod. | H8: žádost o podporu
B10: Bodové hodnocení | D10: =IF(OR(D7="",D8="",),"-",D7+D8) -> -
B11: Slovní komentář:
B18: Pomocný výpočet pro K.7.A.
B19: Nejvyšší požadovaná výše dotace v dané výzvě (na jednu stanici):
B20: Nejnižšší požadovaná výše dotace v dané výzvě (na jednu stanici):
B21: Počet stanic pro hodnocený projekt:
B22: Požadovaná výše dotace (na jednu stanici) pro hodnocený projekt: | E22: =IFERROR('Id. žádosti'!C11/K.7_hospodárnost!E21,"n.a.") -> n.a.
B23: Vypočtené bodové hodnocení pro K.7.A: | E23: =IF(OR(E19=0,E20=0,),"n.a.",IF(ROUND(E20,2)=ROUND(E22,2),50,ROUND(50-((E22-E20)/(E19-E20)*50),0))) -> n.a.

Sheet Analýza rizik
B1: Analýza rizik
B3: ="Projektová žádost: "&'Id. žádosti'!C4 -> Projektová žádost:
C5: Pravděpodobnost výskytu rizika | D5: P | E5: Závažnost následků rizika | F5: N | G5: Míra rizika | H5: R | J5: Komentář hodnocení
B6: Získání stavebního povolení | D6: =IF(C6="Nepravděpodobná ",1,IF(C6="Nahodilá",2,IF(C6="Běžně možná",3,IF(C6="Pravděpodobná ",4,IF(C6="Vysoce pravděpodobná",5,IF(C6="Není relevantní","-","-")))))) -> - | F6: =IF(E6="Neznatelná",1,IF(E6="Drobná",2,IF(E6="Významná",3,IF(E6="Kritická",4,IF(E6="Katastrofická",5,IF(E6="Není relevantní","-","-")))))) -> - | G6: =VLOOKUP(H6,$A$43:$C$70,3) -> - | H6: =IF(ISNUMBER(I6),D6*F6,"-") -> - | I6: =D6*F6 -> #VALUE! | J6: Hodnotitel posoudí, v jakém stavu je proces získání stavebního povolení. V případě, že není stavební povolení vydané, posoudí na základě poskytnutých informací, zda lze očekávat nějaké problémy nebo zpoždění při vydání, což by mělo dopad na realizaci projektu.
B7: Majetko-právní příprava projektu | D7: =IF(C7="Nepravděpodobná ",1,IF(C7="Nahodilá",2,IF(C7="Běžně možná",3,IF(C7="Pravděpodobná ",4,IF(C7="Vysoce pravděpodobná",5,IF(C7="Není relevantní","-","-")))))) -> - | F7: =IF(E7="Neznatelná",1,IF(E7="Drobná",2,IF(E7="Významná",3,IF(E7="Kritická",4,IF(E7="Katastrofická",5,IF(E7="Není relevantní","-","-")))))) -> - | G7: =VLOOKUP(H7,$A$43:$C$70,3) -> - | H7: =IF(ISNUMBER(I7),D7*F7,"-") -> - | I7: =D7*F7 -> #VALUE! | J7: Zhodnotit, jaké jsou majetkové poměry a jaké je riziko, že nebudou získány potřebné pozemky pro realizaci projektu včas. Z žádosti o podporu či z dalších relevantních zdrojů by mělo být zřejmé, kolik % pozemků je již vykoupeno a kolik vykoupit zbývá. V případě, že pro realizaci projektu není zapotřebí pořizování pozemků, nejsou potřeba pozemky, není tento parametr relevantní.
B8: Nedostatečné odhady stavebních nákladů | D8: =IF(C8="Nepravděpodobná ",1,IF(C8="Nahodilá",2,IF(C8="Běžně možná",3,IF(C8="Pravděpodobná ",4,IF(C8="Vysoce pravděpodobná",5,IF(C8="Není relevantní","-","-")))))) -> - | F8: =IF(E8="Neznatelná",1,IF(E8="Drobná",2,IF(E8="Významná",3,IF(E8="Kritická",4,IF(E8="Katastrofická",5,IF(E8="Není relevantní","-","-")))))) -> - | G8: =VLOOKUP(H8,$A$43:$C$70,3) -> - | H8: =IF(ISNUMBER(I8),D8*F8,"-") -> - | I8: =D8*F8 -> #VALUE! | J8: Hodnotitel posoudí, zdali jsou náklady v rozpočtu stanoveny v dostatečné výši, nebo hrozí riziko, že náklady budou vyšší. Dle stupně přípravy dokumentace určí hodnotitel pravděpodobnost a závažnost rizika (záměr projektu, přípravná dokumentace, projekt stavby, projekt v realizaci). V případě projektu v realizaci posoudí hodnotitel riziko víceprací dle typu projektu (novostavba, rekonstrukce, modernizace, atp.).
B9: Překročení nákladů (při výstavbě) | D9: =IF(C9="Nepravděpodobná ",1,IF(C9="Nahodilá",2,IF(C9="Běžně možná",3,IF(C9="Pravděpodobná ",4,IF(C9="Vysoce pravděpodobná",5,IF(C9="Není relevantní","-","-")))))) -> - | F9: =IF(E9="Neznatelná",1,IF(E9="Drobná",2,IF(E9="Významná",3,IF(E9="Kritická",4,IF(E9="Katastrofická",5,IF(E9="Není relevantní","-","-")))))) -> - | G9: =VLOOKUP(H9,$A$43:$C$70,3) -> - | H9: =IF(ISNUMBER(I9),D9*F9,"-") -> - | I9: =D9*F9 -> #VALUE! | J9: Hodnotitel posoudí technickou náročnost realizace projektu a posoudí možná rizika vyplývající z plánovaných stavebních postupů. (Geologie – tunely a specifické stavby). V případě projektu v realizaci posoudí hodnotitel možné riziko víceprací.
B10: Zadání veřejné zakázky (zpoždění) | D10: =IF(C10="Nepravděpodobná ",1,IF(C10="Nahodilá",2,IF(C10="Běžně možná",3,IF(C10="Pravděpodobná ",4,IF(C10="Vysoce pravděpodobná",5,IF(C10="Není relevantní","-","-")))))) -> - | F10: =IF(E10="Neznatelná",1,IF(E10="Drobná",2,IF(E10="Významná",3,IF(E10="Kritická",4,IF(E10="Katastrofická",5,IF(E10="Není relevantní","-","-")))))) -> - | G10: =VLOOKUP(H10,$A$43:$C$70,3) -> - | H10: =IF(ISNUMBER(I10),D10*F10,"-") -> - | I10: =D10*F10 -> #VALUE! | J10: Hodnotitel posoudí, zdali vzhledem ke stavu přípravy projektové dokumentace nehrozí riziko zpoždění zadání veřejné soutěže nebo případně odvolání některého z účastníků. V případě projektu v realizaci není tento parametr relevantní.
B11: Problémy se zhotovitelem (nedostatek prostředků, insolvence) | D11: =IF(C11="Nepravděpodobná ",1,IF(C11="Nahodilá",2,IF(C11="Běžně možná",3,IF(C11="Pravděpodobná ",4,IF(C11="Vysoce pravděpodobná",5,IF(C11="Není relevantní","-","-")))))) -> - | F11: =IF(E11="Neznatelná",1,IF(E11="Drobná",2,IF(E11="Významná",3,IF(E11="Kritická",4,IF(E11="Katastrofická",5,IF(E11="Není relevantní","-","-")))))) -> - | G11: =VLOOKUP(H11,$A$43:$C$70,3) -> - | H11: =IF(ISNUMBER(I11),D11*F11,"-") -> - | I11: =D11*F11 -> #VALUE! | J11: V případě, že již došlo k vysoutěžení zhotovitele, hodnotitel posoudí, zdali nehrozí jakékoli komplikace s realizací stavby. V případě, že je projekt v procesu před soutěží, není tento parametr relevantní.
B12: Změna strategie (priorita) | D12: =IF(C12="Nepravděpodobná ",1,IF(C12="Nahodilá",2,IF(C12="Běžně možná",3,IF(C12="Pravděpodobná ",4,IF(C12="Vysoce pravděpodobná",5,IF(C12="Není relevantní","-","-")))))) -> - | F12: =IF(E12="Neznatelná",1,IF(E12="Drobná",2,IF(E12="Významná",3,IF(E12="Kritická",4,IF(E12="Katastrofická",5,IF(E12="Není relevantní","-","-")))))) -> - | G12: =VLOOKUP(H12,$A$43:$C$70,3) -> - | H12: =IF(ISNUMBER(I12),D12*F12,"-") -> - | I12: =D12*F12 -> #VALUE! | J12: Hodnotitel posoudí riziko, že projekt svým zaměřením nespadá v tomto období mezi priority strategie realizace dopravních opatření. Pokud např. jde o stavbu na síti TEN-T, pravděpodobnost změny je nepravděpodobná a výskyt neznatelný. Naopak pokud hrozí přeřazení silnice nebo tratě do jiné kategorie (nižší) změna je asi nahodilá, ale následek může být kritický či katastrofický.
B13: Provozní náklady (vyšší než se předpokládalo) | D13: =IF(C13="Nepravděpodobná ",1,IF(C13="Nahodilá",2,IF(C13="Běžně možná",3,IF(C13="Pravděpodobná ",4,IF(C13="Vysoce pravděpodobná",5,IF(C13="Není relevantní","-","-")))))) -> - | F13: =IF(E13="Neznatelná",1,IF(E13="Drobná",2,IF(E13="Významná",3,IF(E13="Kritická",4,IF(E13="Katastrofická",5,IF(E13="Není relevantní","-","-")))))) -> - | G13: =VLOOKUP(H13,$A$43:$C$70,3) -> - | H13: =IF(ISNUMBER(I13),D13*F13,"-") -> - | I13: =D13*F13 -> #VALUE! | J13: Posoudit, jakým způsobem byly vyčísleny provozní náklady nové i stávající infrastruktury. V případě podezření na podhodnocení provozních nákladů (běžně možný výskyt rizika) projektové varianty je následek „významný“ a může to mít vliv na ekonomické hodnocení stavby.
B14: Ostatní rizika projeku | D14: =IF(C14="Nepravděpodobná ",1,IF(C14="Nahodilá",2,IF(C14="Běžně možná",3,IF(C14="Pravděpodobná ",4,IF(C14="Vysoce pravděpodobná",5,IF(C14="Není relevantní","-","-")))))) -> - | F14: =IF(E14="Neznatelná",1,IF(E14="Drobná",2,IF(E14="Významná",3,IF(E14="Kritická",4,IF(E14="Katastrofická",5,IF(E14="Není relevantní","-","-")))))) -> - | G14: =VLOOKUP(H14,$A$43:$C$70,3) -> - | H14: =IF(ISNUMBER(I14),D14*F14,"-") -> - | I14: =D14*F14 -> #VALUE! | J14: Posouzení ostatních rizik nad rámec definovaného seznamu. Nutno specifikovat v komentáři.
B16: Vyhodnocení | D16: =IF(OR(E84>0,C23>100),"Stupeň rizika III",IF(OR(G84>2,C23>75),"Stupeň rizika II","Stupeň rizika I")) -> Stupeň rizika I
B17: Slovní komentář :
B23: Hodnota rizika: | C23: =SUMPRODUCT(D6:D14,F6:F14) -> 0
A25: Hodnota | B25: Pravděpodobnost výskytu rizika (P) | E25: Výběr3 | F25: -
A26: 1 | B26: Nepravděpodobná | C26: (0-20%) | F26: Stupeň rizika I
A27: 2 | B27: Nahodilá | C27: (21-40%) | F27: Stupeň rizika II
A28: 3 | B28: Běžně možná | C28: (41-60%) | F28: Stupeň rizika III
A29: 4 | B29: Pravděpodobná | C29: (61-80%)
A30: 5 | B30: Vysoce pravděpodobná | C30: (81-100%)
A31: 0 | B31: Není relevantní
A32: - | B32: -
A33: Hodnota | B33: Závažnost následků rizika (N)
A34: 1 | B34: Neznatelná | C34: (0-20%)
A35: 2 | B35: Drobná | C35: (21-40%)
A36: 3 | B36: Významná | C36: (41-60%)
A37: 4 | B37: Kritická | C37: (61-80%)
A38: 5 | B38: Katastrofická | C38: (81-100%)
A39: 0 | B39: Není relevantní
A40: - | B40: -
A41: Stupeň | B41: Kategorie | C41: Míra rizika (R) - přijatelnost rizika v kategoriích
A42: (bodový součin)
A43: 1 | B43: I. | C43: Zanedbatelné riziko
A44: 2 | B44: I. | C44: Zanedbatelné riziko
A45: 3 | B45: II. | C45: Mírné riziko
A46: 4 | B46: II. | C46: Mírné riziko
A47: 5 | B47: II. | C47: Mírné riziko
A48: 6 | B48: K. | C48: Akceptovatelné riziko
A49: 7 | B49: K. | C49: Akceptovatelné riziko
...

Sheet indikátory
A3: opatření | B3: Železniční infrastruktura TEN-T | C3: Silniční infrastruktura (TEN-T) | D3: Infrastruktura pro multimodální dopravu TEN-T | E3: Interoperabilita v železniční dopravě | F3: Železniční infrastruktura mimo TEN-T | G3: ITS - dopravní telematika | H3: Silniční infrastruktura (mimo TEN-T) | I3: Infrastruktura městské drážní dopravy | J3: Infrastruktura pro alternativní paliva
A4: priorita | B4: Priorita 1 – FS: Evropská, celostátní a regionální mobilita | C4: Priorita 1 – FS: Evropská, celostátní a regionální mobilita | D4: Priorita 1 – FS: Evropská, celostátní a regionální mobilita | E4: Priorita 1 – FS: Evropská, celostátní a regionální mobilita | F4: Priorita 1 – FS: Evropská, celostátní a regionální mobilita | G4: Priorita 1 – FS: Evropská, celostátní a regionální mobilita | H4: Priorita 2- EFRR: Celostátní silniční mobilita zajišťující konektivitu k síti TEN-T | I4: Priorita 3 - FS: Udržitelná městská mobilita (a alternativní paliva) | J4: Priorita 3 - FS: Udržitelná městská mobilita (a alternativní paliva)
A5: výstupy | B5: Délka nových nebo modernizovaných železničních tratí – TEN-T | C5: Délka nových nebo modernizovaných silnic – TEN-T | D5: Nová nebo modernizovaná intermodální spojení | E5: Počet modernizovaných vozidel pro drážní dopravu v oblasti interoperability | F5: Délka nových nebo modernizovaných železničních tratí – mimo TEN-T | G5: Délka silnic s novým nebo modernizovaným dopravním řídicím systémem – mimo TEN-T | H5: Délka nových nebo modernizovaných silnic – mimo TEN-T | I5: Délka nových tramvajových tratí a tratí metra | J5: Infrastruktura pro alternativní paliva (plnicí/dobíjecí stanice)
B6: Délka rekonstruovaných nebo modernizovaných železničních tratí – TEN-T | F6: Délka rekonstruovaných nebo modernizovaných železničních tratí – mimo TEN-T | I6: Délka rekonstruovaných nebo modernizovaných tramvajových tratí a tratí metra
B7: Nové nebo modernizované železniční stanice a zastávky | F7: Nové nebo modernizované železniční stanice a zastávky | I7: Délka nových, rekonstruovaných nebo modernizovaných trolejbusových tratí
B8: Délka železničních tratí v provozu vybavených evropským systémem řízení železničního provozu - TEN-T | F8: Délka železničních tratí v provozu vybavených evropským systémem řízení železničního provozu - mimo TEN-T | I8: Vybudování nové stanice metra
A10: výsledky | B10: Počet uživatelů nově vybudovaných, rekonstruovaných nebo modernizovaných železničních tratí za rok | C10: Počet uživatelů nově vybudovaných, rekonstruovaných nebo modernizovaných silnic za rok | D10: Železniční nákladní doprava | E10: Železniční nákladní doprava | F10: Počet uživatelů nově vybudovaných, rekonstruovaných nebo modernizovaných železničních tratí za rok | H10: Počet uživatelů nově vybudovaných, rekonstruovaných nebo modernizovaných silnic za rok | I10: Počet uživatelů nové nebo modernizované veřejné dopravy za rok | J10: Kapacita zařízení určených k nabíjení vozidel
B11: Časové úspory díky lepší železniční infrastruktuře | C11: Časové úspory díky lepší silniční infrastruktuře | F11: Časové úspory díky lepší železniční infrastruktuře | H11: Časové úspory díky lepší silniční infrastruktuře | I11: Počet uživatelů nových nebo modernizovaných tramvajových tratí a tratí metra za rok | J11: Výkon plnicích stanic
B12: Železniční nákladní doprava | F12: Železniční nákladní doprava
