Workbook
Name _Ref472494490: '2 ZH'!#REF!
Name _Toc490165956: '11 KF'!#REF!
Name _Toc490165957: '11 KF'!#REF!
Name _Toc490165986: '4 PN infrastruktury'!$I$94
Name _Toc490166005: '11 KF'!#REF!
Name _Toc490166006: '11 KF'!#REF!
Name EKON.DOBA.ZIV: '[1]zbytková hodnota'!$F$13
Name FRPoč.měsíc: #REF!
Name FRPoč.měsíc: #REF!
Name FRPoč.měsíc: #REF!
Name FRPoč.rok: #REF!
Name FRPoč.rok: #REF!
Name FRPoč.rok: #REF!
Name PINFRA: '7 Finanční analýza'!#REF!
Name PNINFRA: '7 Finanční analýza'!$U$3:$U$5
Name PNINFRA: '7 Finanční analýza'!$U$3:$U$6
Name PNVOZIDLA: '7 Finanční analýza'!$V$3:$V$7
Name PNVOZIDLA: '7 Finanční analýza'!$V$3:$V$8
Name SAZBA: #REF!
Name SLOVNIK: Slovnik!$C$2:$D$2

Sheet 0 Úvod
C3: =IF($M$10="English",Slovnik!$D$5,Slovnik!$C$5) -> Úvod
C4: =IF($M$10="English",Slovnik!$E$6,Slovnik!$E$5) -> Zjednodušené tabulky FA a EA připravené pro projekty MHD založené na finančních a ekonomických tabulkách z Rezortní metodiky pro hodnocení ekonomické efektivnosti projektů dopravních staveb (MD ČR, 2017). Model je založen na analýze výnosů a nákladů a je plně v souladu s Nařízením komise (EU) 2015/207. Tabulky vychází z původního vzoru DG REGIO/F.2 a jejich dalšího zpracování ze strany SUDOP PRAHA a.s.
L10: =IF($M$10="English",Slovnik!$D$4,Slovnik!$C$4) -> Jazyk | M10: Česky | N10: verze MHD 0622
N11: verze MHD 250507
C14: =IF($M$10="English",Slovnik!$D$6,Slovnik!$C$6) -> Základní informace
C16: =IF($M$10="English",Slovnik!$D$7,Slovnik!$C$7) -> Název projektu
C18: =IF($M$10="English",Slovnik!$D$10,Slovnik!$C$10) -> Cenová úroveň (CÚ) | D18: 2025 | F18: =IF($M$10="English",Slovnik!$D$13,Slovnik!$C$13) -> Začátek stavebních prací | G18: 2026 | I18: =IF($M$10="English",Slovnik!$D$15,Slovnik!$C$15) -> Doba hodnocení | J18: 30 | M18: =IF($M$10="English",Slovnik!$D$16,Slovnik!$C$16) -> Směnný kurz (CZK/EUR) | N18: 24.96
C20: =IF($M$10="English",Slovnik!$D$14,Slovnik!$C$14) -> Začátek provozu | D20: 2026 | F20: Charakter projektu | G20: nová výstavba | I20: =IF($M$10="English",Slovnik!$D$9,Slovnik!$C$9) -> Diskontní sazba | J20: 0.02 | K20: 0.03 | M20: =IF($M$10="English",Slovnik!$D$17,Slovnik!$C$17) -> DPH | N20: 0.21
J21: =IF($M$10="English",Slovnik!$D$11,Slovnik!$C$11) -> finanční | K21: =IF($M$10="English",Slovnik!$D$12,Slovnik!$C$12) -> ekonomická
C25: =IF($M$10="English",Slovnik!$D$18,Slovnik!$C$18) -> Hodnocené scénáře
B26: =IF($M$10="English",Slovnik!$D$19,Slovnik!$C$19) -> BEZ PROJEKTU
B31: =IF($M$10="English",Slovnik!$D$20,Slovnik!$C$20) -> S PROJEKTEM
C38: =IF($M$10="English",Slovnik!$D$21,Slovnik!$C$21) -> Míra inflace
C40: =IF($M$10="English",Slovnik!$D$22,Slovnik!$C$22) -> rok | D40: 2014 | E40: 2015 | F40: 2016 | G40: 2017 | H40: 2018 | I40: 2019 | J40: 2020 | K40: 2021 | L40: 2022 | M40: 2023 | N40: 2024 | O40: *
C41: =IF($M$10="English",Slovnik!$D$23,Slovnik!$C$23) -> inflace | D41: 0.004 | E41: 0.003 | F41: 0.007 | G41: 0.025 | H41: 0.021 | I41: 0.028 | J41: 0.032 | K41: 0.038 | L41: 0.151 | M41: 0.107 | N41: 0.026
D42: 1 | E42: 1 | F42: 1 | G42: 1 | H42: 1 | I42: 1 | J42: 1 | K42: =J42*(1+K41) -> 1.038 | L42: =K42*(1+L41) -> 1.194738 | M42: =L42*(1+M41) -> 1.322575 | N42: =M42*(1+N41) -> 1.3569619
C43: zdroj: "Rezortní metodika pro hodnocení ekonomické efektivnosti projektů dopravních staveb" (MD ČR, 2017, aktualizace 2023); ČNB ("Zpráva o měnové politice - zima 2024")
C45: =IF($M$10="English",Slovnik!$D$24,Slovnik!$C$24) -> Index cen stavebních prací
C47: =IF($M$10="English",Slovnik!$D$22,Slovnik!$C$22) -> rok | D47: 2012 | E47: 2013 | F47: 2014 | G47: 2015 | H47: 2016 | I47: 2017 | J47: 2018 | K47: 2019 | L47: 2020 | M47: 2021 | N47: 2022 | O47: *
C48: =IF($M$10="English",Slovnik!$D$23,Slovnik!$C$23) -> inflace | D48: -0.007 | E48: -0.011 | F48: 0.005 | G48: 0 | H48: 0 | I48: 0 | J48: 0 | K48: 0.013 | L48: 0.0235 | M48: 0.037 | N48: 0.02
D49: 1 | E49: 1 | F49: 1 | G49: 1 | H49: 1 | I49: 1 | J49: 1 | K49: =J49*(1+K48) -> 1.013 | L49: =K49*(1+L48) -> 1.0368055 | M49: =L49*(1+M48) -> 1.0751673 | N49: =M49*(1+N48) -> 1.0966706
C50: =IF($M$10="English",Slovnik!$D$25,Slovnik!$C$25) -> zdroj: aktuálně platné opatření SFDI (č.j. 154/SFDI/320096/16105/2021)
C54: =IF($M$10="English",Slovnik!$D$26,Slovnik!$C$26) -> Růst HDP na hlavu
C56: =IF($M$10="English",Slovnik!$D$22,Slovnik!$C$22) -> rok | D56: 2014 | E56: 2015 | F56: 2016 | G56: 2017 | H56: 2018 | I56: 2019 | J56: 2020 | K56: 2021 | L56: 2022 | M56: 2023 | N56: 2024 | O56: *
C57: =IF($M$10="English",Slovnik!$D$27,Slovnik!$C$27) -> růst HDP | D57: 0.023 | E57: 0.055 | F57: 0.025 | G57: 0.053 | H57: 0.032 | I57: 0.03 | J57: -0.055 | K57: 0.035 | L57: 0.024 | M57: -0.005 | N57: 0.006
C59: zdroj: "Rezortní metodika pro hodnocení ekonomické efektivnosti projektů dopravních staveb" (MD ČR, 2017, aktualizace 2023); ČNB ("Zpráva o měnové politice - zima 2024")
C63: =IF($M$10="English",Slovnik!$D$28,Slovnik!$C$28) -> Růst reálných mezd
C65: =IF($M$10="English",Slovnik!$D$22,Slovnik!$C$22) -> rok | D65: 2012 | E65: 2013 | F65: 2014 | G65: 2015 | H65: 2016 | I65: 2017 | J65: 2018 | K65: 2019 | L65: 2020 | M65: 2021 | N65: 2022 | O65: *
C66: =IF($M$10="English",Slovnik!$D$29,Slovnik!$C$29) -> růst mezd | D66: -0.008 | E66: -0.016 | F66: 0.026 | G66: 0.028 | H66: 0.038 | I66: 0.043 | J66: 0.06 | K66: 0.05 | L66: 0 | M66: 0.024 | N66: -0.018
D67: 1 | E67: 1 | F67: 1 | G67: 1 | H67: 1 | I67: 1 | J67: 1 | K67: =J67*(1+K66*'4 PN infrastruktury'!$D$104) -> 1.05 | L67: =K67*(1+L66*'4 PN infrastruktury'!$D$104) -> 1.05 | M67: =L67*(1+M66*'4 PN infrastruktury'!$D$104) -> 1.0752 | N67: =M67*(1+N66*'4 PN infrastruktury'!$D$104) -> 1.0558464
C68: =IF($M$10="English",Slovnik!$E$25,Slovnik!$E$24) -> zdroj: Rezortní metodika pro hodnocení ekonomické efektivnosti projektů dopravních staveb (MD ČR, 2017); ČNB (Zpráva o měnové politice - zima 2022)
C71: * pro další roky platí v souladu s Rezortní metodikou průměrná hodnota spočtená od roku 2010 do r. 2024, tzn. inflace = 3,49 %, HDP = 1,71 %.
C74: Vyplnit pouze žlutě podbarvené buňky! | F74: Tabulky jsou určeny pro zpracování v prostředí Microsoft Office.
B83: Pomocné výpočty
B85: 2021 | C85: 2022 | D85: 2023 | E85: 2024 | F85: 2025 | G85: 2026 | H85: 2027 | I85: 2028 | J85: 2029 | K85: 2030
D89: převod z cenové hladiny 2017
D90: 2018 | E90: 2019 | F90: 2020 | G90: 2021 | H90: 2022 | I90: 2023 | J90: 2024 | K90: 2025 | L90: 2026 | M90: 2027 | N90: =1+M90 -> 2028 | O90: =1+N90 -> 2029 | P90: =1+O90 -> 2030 | Q90: =1+P90 -> 2031 | R90: =1+Q90 -> 2032 | S90: =1+R90 -> 2033 | T90: =1+S90 -> 2034 | U90: =1+T90 -> 2035 | ... AT90: =1+AS90 -> 2060
B91: inflace | D91: =1+H41 -> 1.021 | E91: =1+I41 -> 1.028 | F91: =1+J41 -> 1.032 | G91: =1+K41 -> 1.038 | H91: =1+L41 -> 1.151 | I91: =1+M41 -> 1.107 | J91: =1+N41 -> 1.026 | K91: =1+0.0349 -> 1.0349 | L91: =1+0.0349 -> 1.0349 | M91: =1+0.0349 -> 1.0349
B92: elasticita k HDP: | C92: 0.41 | D92: =(1+$C92*H$57) -> 1.01312 | E92: =(1+$C92*I$57) -> 1.0123 | F92: =(1+$C92*J$57) -> 0.97745 | G92: =(1+$C92*K$57) -> 1.01435 | H92: =(1+$C92*L$57) -> 1.00984 | I92: =(1+$C92*M$57) -> 0.99795 | J92: =(1+$C92*N$57) -> 1.00246 | K92: =(1+$C92*0.0171) -> 1.007011 | L92: =(1+$C92*0.0171) -> 1.007011 | M92: =(1+$C92*0.0171) -> 1.007011
B93: elasticita k HDP: | C93: 0.7 | D93: =(1+$C93*H$57) -> 1.0224 | E93: =(1+$C93*I$57) -> 1.021 | F93: =(1+$C93*J$57) -> 0.9615 | G93: =(1+$C93*K$57) -> 1.0245 | H93: =(1+$C93*L$57) -> 1.0168 | I93: =(1+$C93*M$57) -> 0.9965 | J93: =(1+$C93*N$57) -> 1.0042 | K93: =(1+$C93*0.0171) -> 1.01197 | L93: =(1+$C93*0.0171) -> 1.01197 | M93: =(1+$C93*0.0171) -> 1.01197
...

Sheet 1 CIN
B2: 1.1. | C2: =IF('0 Úvod'!$M$10="English",Slovnik!$D$32,Slovnik!$C$32) -> Celkové investiční náklady (CZK) | E2: =IF('0 Úvod'!$M$10="English",Slovnik!$D$47,Slovnik!$C$47) -> V roce
B3: a | D3: =IF('0 Úvod'!$M$10="English",Slovnik!$D$46,Slovnik!$C$46) -> Celkové projektové náklady | E3: ='0 Úvod'!G18 -> 2026 | F3: =E3+1 -> 2027 | G3: =F3+1 -> 2028 | H3: =G3+1 -> 2029 | I3: =H3+1 -> 2030 | J3: =I3+1 -> 2031 | K3: =J3+1 -> 2032 | L3: =K3+1 -> 2033 | M3: =L3+1 -> 2034 | ... S3: =R3+1 -> 2040
B5: 1. | C5: Příprava a zabezpečení projektu | D5: =SUM(E5:S5) -> 0
B6: 2. | C6: Pořízení nemovitostí | D6: =SUM(E6:S6) -> 0
B7: 3. | C7: Výstavba | D7: =SUM(E7:S7) -> 0
B8: 4. | C8: =IF('0 Úvod'!$M$10="English",Slovnik!D38,Slovnik!C38) -> Stroje a zařízení | D8: =SUM(E8:S8) -> 0
B9: 5. | C9: Propagace | D9: =SUM(E9:S9) -> 0
C10: =IF('0 Úvod'!$M$10="English",Slovnik!D41,Slovnik!C41) -> Celkové investiční náklady bez rezervy | D10: =SUM(E10:S10) -> 0 | E10: =SUM(E5:E9) -> 0 | F10: =SUM(F5:F9) -> 0 | G10: =SUM(G5:G9) -> 0 | H10: =SUM(H5:H9) -> 0 | I10: =SUM(I5:I9) -> 0 | J10: =SUM(J5:J9) -> 0 | K10: =SUM(K5:K9) -> 0 | L10: =SUM(L5:L9) -> 0 | ... S10: =SUM(S5:S9) -> 0
B11: 6. | C11: Rezerva (nepředvídatelné události) | D11: =SUM(E11:S11) -> 0
C12: =IF('0 Úvod'!$M$10="English",Slovnik!D43,Slovnik!C43) -> Celkové investiční náklady včetně rezervy | D12: =SUM(E12:S12) -> 0 | E12: =SUM(E10:E11) -> 0 | F12: =SUM(F10:F11) -> 0 | G12: =SUM(G10:G11) -> 0 | H12: =SUM(H10:H11) -> 0 | I12: =SUM(I10:I11) -> 0 | J12: =SUM(J10:J11) -> 0 | K12: =SUM(K10:K11) -> 0 | L12: =SUM(L10:L11) -> 0 | ... S12: =SUM(S10:S11) -> 0
B13: 7. | C13: DPH | D13: =SUM(E13:S13) -> 0 | E13: =(E12-E6)*'0 Úvod'!$N$20 -> 0 | F13: =(F12-F6)*'0 Úvod'!$N$20 -> 0 | G13: =(G12-G6)*'0 Úvod'!$N$20 -> 0 | H13: =(H12-H6)*'0 Úvod'!$N$20 -> 0 | I13: =(I12-I6)*'0 Úvod'!$N$20 -> 0 | J13: =(J12-J6)*'0 Úvod'!$N$20 -> 0 | K13: =(K12-K6)*'0 Úvod'!$N$20 -> 0 | L13: =(L12-L6)*'0 Úvod'!$N$20 -> 0 | ... S13: =(S12-S6)*'0 Úvod'!$N$20 -> 0
C14: =IF('0 Úvod'!$M$10="English",Slovnik!D45,Slovnik!C45) -> Celkové investiční náklady včetně DPH | D14: =SUM(E14:S14) -> 0 | E14: =E13+E12 -> 0 | F14: =F13+F12 -> 0 | G14: =G13+G12 -> 0 | H14: =H13+H12 -> 0 | I14: =I13+I12 -> 0 | J14: =J13+J12 -> 0 | K14: =K13+K12 -> 0 | L14: =L13+L12 -> 0 | ... S14: =S13+S12 -> 0
B16: 1.1. | C16: z toho způsobilé náklady | D16: =SUM(E16:S16) -> 0
B17: b | C17: z toho nezpůsobilé náklady | D17: =SUM(E17:S17) -> 0 | E17: =E14-E16 -> 0 | F17: =F14-F16 -> 0 | G17: =G14-G16 -> 0 | H17: =H14-H16 -> 0 | I17: =I14-I16 -> 0 | J17: =J14-J16 -> 0 | K17: =K14-K16 -> 0 | L17: =L14-L16 -> 0 | ... S17: =S14-S16 -> 0
B19: 1.1. | C19: z toho výdaje na modernizace | D19: =SUM(E19:S19) -> 0
B20: c | C20: podíl výdajů na modernizace na pol. 3 a 4 | D20: =IFERROR(D19/(D7+D8),"n.a.") -> n.a.
C21: =IF((D7+D8)=0,"",IF(D20>0.15,"Jedná se o modernizační projekt.",""))
B22: 1.1. | C22: =IF('0 Úvod'!$M$10="English",Slovnik!$D$32,Slovnik!$C$32) -> Celkové investiční náklady (CZK)
B23: b | C23: =IF('0 Úvod'!M10="English",Slovnik!$D$33,Slovnik!$C$33) -> (konstantní ceny) | E23: =S3+1 -> 2041 | F23: =E23+1 -> 2042 | G23: =F23+1 -> 2043 | H23: =G23+1 -> 2044 | I23: =H23+1 -> 2045 | J23: =I23+1 -> 2046 | K23: =J23+1 -> 2047 | L23: =K23+1 -> 2048 | M23: =L23+1 -> 2049 | ... S23: =R23+1 -> 2055
C24: =IF('0 Úvod'!M10="English",Slovnik!$D$34,Slovnik!$C$34)&" "&'0 Úvod'!D18 -> CÚ 2025
C25: =IF('0 Úvod'!$M$10="English",Slovnik!D35,Slovnik!C35) -> Projektová dokumentace
C26: =IF('0 Úvod'!$M$10="English",Slovnik!D36,Slovnik!C36) -> Zábory a nákupy pozemků
C27: =IF('0 Úvod'!$M$10="English",Slovnik!D37,Slovnik!C37) -> Stavby a konstrukce (stavební náklady)
C28: =IF('0 Úvod'!$M$10="English",Slovnik!D38,Slovnik!C38) -> Stroje a zařízení
C29: =IF('0 Úvod'!$M$10="English",Slovnik!D39,Slovnik!C39) -> Technická asistence, propagace
C30: =IF('0 Úvod'!$M$10="English",Slovnik!D40,Slovnik!C40) -> Technický dozor
C31: =IF('0 Úvod'!$M$10="English",Slovnik!D41,Slovnik!C41) -> Celkové investiční náklady bez rezervy | E31: =SUM(E25:E30) -> 0 | F31: =SUM(F25:F30) -> 0 | G31: =SUM(G25:G30) -> 0 | H31: =SUM(H25:H30) -> 0 | I31: =SUM(I25:I30) -> 0 | J31: =SUM(J25:J30) -> 0 | K31: =SUM(K25:K30) -> 0 | L31: =SUM(L25:L30) -> 0 | ... S31: =SUM(S25:S30) -> 0
C32: =IF('0 Úvod'!$M$10="English",Slovnik!D42,Slovnik!C42) -> Rezerva
C33: =IF('0 Úvod'!$M$10="English",Slovnik!D43,Slovnik!C43) -> Celkové investiční náklady včetně rezervy | E33: =SUM(E31:E32) -> 0 | F33: =SUM(F31:F32) -> 0 | G33: =SUM(G31:G32) -> 0 | H33: =SUM(H31:H32) -> 0 | I33: =SUM(I31:I32) -> 0 | J33: =SUM(J31:J32) -> 0 | K33: =SUM(K31:K32) -> 0 | L33: =SUM(L31:L32) -> 0 | ... S33: =SUM(S31:S32) -> 0
C34: =IF('0 Úvod'!M10="English",Slovnik!$D$44,Slovnik!$C$44)&" "&'0 Úvod'!N20*100&" %" -> DPH 21 % | E34: =(E33-E26)*'0 Úvod'!$N$20 -> 0 | F34: =(F33-F26)*'0 Úvod'!$N$20 -> 0 | G34: =(G33-G26)*'0 Úvod'!$N$20 -> 0 | H34: =(H33-H26)*'0 Úvod'!$N$20 -> 0 | I34: =(I33-I26)*'0 Úvod'!$N$20 -> 0 | J34: =(J33-J26)*'0 Úvod'!$N$20 -> 0 | K34: =(K33-K26)*'0 Úvod'!$N$20 -> 0 | L34: =(L33-L26)*'0 Úvod'!$N$20 -> 0 | ... S34: =(S33-S26)*'0 Úvod'!$N$20 -> 0
C35: =IF('0 Úvod'!$M$10="English",Slovnik!D45,Slovnik!C45) -> Celkové investiční náklady včetně DPH | E35: =E34+E33 -> 0 | F35: =F34+F33 -> 0 | G35: =G34+G33 -> 0 | H35: =H34+H33 -> 0 | I35: =I34+I33 -> 0 | J35: =J34+J33 -> 0 | K35: =K34+K33 -> 0 | L35: =L34+L33 -> 0 | ... S35: =S34+S33 -> 0
B38: 1.2. | C38: =IF('0 Úvod'!$M$10="English",Slovnik!$D$48,Slovnik!$C$48) -> Celkové investiční náklady (CZK)
B39: a | C39: =IF('0 Úvod'!$M$10="English",Slovnik!$D$49,Slovnik!$C$49) -> (běžné ceny) | D39: =IF('0 Úvod'!$M$10="English",Slovnik!$D$63,Slovnik!$C$63) -> Celkové projektové náklady | E39: =E3 -> 2026 | F39: =E39+1 -> 2027 | G39: =F39+1 -> 2028 | H39: =G39+1 -> 2029 | I39: =H39+1 -> 2030 | J39: =I39+1 -> 2031 | K39: =J39+1 -> 2032 | L39: =K39+1 -> 2033 | M39: =L39+1 -> 2034 | ... S39: =R39+1 -> 2040
C40: =IF('0 Úvod'!$M$10="English",Slovnik!D50,Slovnik!C50) -> Způsobilost nákladů **
C41: =IF('0 Úvod'!$M$10="English",Slovnik!D51,Slovnik!C51) -> Poplatky za plány/stavební projekt | D41: =SUM(E41:S41,E57:S57) -> 0
C42: =IF('0 Úvod'!$M$10="English",Slovnik!D52,Slovnik!C52) -> Nákup pozemků | D42: =SUM(E42:S42,E58:S58) -> 0
C43: =IF('0 Úvod'!$M$10="English",Slovnik!D53,Slovnik!C53) -> Výstavba | D43: =SUM(E43:S43,E59:S59) -> 0
C44: =IF('0 Úvod'!$M$10="English",Slovnik!D54,Slovnik!C54) -> Prostory a strojní zařízení nebo vybavení | D44: =SUM(E44:S44,E60:S60) -> 0
C45: =IF('0 Úvod'!$M$10="English",Slovnik!D55,Slovnik!C55) -> Nepředvídané události | D45: =SUM(E45:S45,E61:S61) -> 0
C46: =IF('0 Úvod'!$M$10="English",Slovnik!D56,Slovnik!C56) -> Úprava ceny (v příslušném případě) | D46: =SUM(E46:S46,E62:S62) -> 0
...

Sheet 2 ZH
B2: 2.1. | C2: =IF('0 Úvod'!$M$10="English",Slovnik!$D$70,Slovnik!$C$70) -> Životnost investice (roky) | D2: =IF('0 Úvod'!$M$10="English",Slovnik!$D$105,Slovnik!$C$105) -> Náklady (CZK) | E2: =IF('0 Úvod'!$M$10="English",Slovnik!$D$106,Slovnik!$C$106) -> Vážení | G2: 2.2. | H2: =IF('0 Úvod'!$M$10="English",Slovnik!$D$108,Slovnik!$C$108) -> Životnost jednotlivých prvků dle dopravních módů | I2: =IF('0 Úvod'!$M$10="English",Slovnik!$D$109,Slovnik!$C$109) -> ekonomická životnost v letech
B3: =IF('0 Úvod'!$M$10="English",Slovnik!$D$67,Slovnik!$C$67) -> ŽELEZNIČNÍ A OSTATNÍ INFRASTRUKTURA* | C3: =IF('0 Úvod'!$M$10="English",Slovnik!D71,Slovnik!C71) -> Zabezpečovací zařízení | E3: =D3*I3 -> 0 | G3: =IF('0 Úvod'!$M$10="English",Slovnik!$D$67,Slovnik!$C$67) -> ŽELEZNIČNÍ A OSTATNÍ INFRASTRUKTURA* | H3: =IF('0 Úvod'!$M$10="English",Slovnik!D71,Slovnik!C71) -> Zabezpečovací zařízení | I3: 20
C4: =IF('0 Úvod'!$M$10="English",Slovnik!D72,Slovnik!C72) -> Sdělovací zařízení | E4: =D4*I4 -> 0 | H4: =IF('0 Úvod'!$M$10="English",Slovnik!D72,Slovnik!C72) -> Sdělovací zařízení | I4: 20
C5: =IF('0 Úvod'!$M$10="English",Slovnik!D73,Slovnik!C73) -> Silnoproudé rozvody a zařízení | E5: =D5*I5 -> 0 | H5: =IF('0 Úvod'!$M$10="English",Slovnik!D73,Slovnik!C73) -> Silnoproudé rozvody a zařízení | I5: 20
C6: =IF('0 Úvod'!$M$10="English",Slovnik!D74,Slovnik!C74) -> Železniční svršek | E6: =D6*I6 -> 0 | H6: =IF('0 Úvod'!$M$10="English",Slovnik!D74,Slovnik!C74) -> Železniční svršek | I6: 30
C7: =IF('0 Úvod'!$M$10="English",Slovnik!D75,Slovnik!C75) -> Železniční spodek | E7: =D7*I7 -> 0 | H7: =IF('0 Úvod'!$M$10="English",Slovnik!D75,Slovnik!C75) -> Železniční spodek | I7: 60
C8: =IF('0 Úvod'!$M$10="English",Slovnik!D76,Slovnik!C76) -> Pevná jízdní dráha | E8: =D8*I8 -> 0 | H8: =IF('0 Úvod'!$M$10="English",Slovnik!D76,Slovnik!C76) -> Pevná jízdní dráha | I8: 50
C9: =IF('0 Úvod'!$M$10="English",Slovnik!D77,Slovnik!C77) -> Mosty, propustky, zdi | E9: =D9*I9 -> 0 | H9: =IF('0 Úvod'!$M$10="English",Slovnik!D77,Slovnik!C77) -> Mosty, propustky, zdi | I9: 75
C10: =IF('0 Úvod'!$M$10="English",Slovnik!D78,Slovnik!C78) -> Tunely | E10: =D10*I10 -> 0 | H10: =IF('0 Úvod'!$M$10="English",Slovnik!D78,Slovnik!C78) -> Tunely | I10: 90
C11: =IF('0 Úvod'!$M$10="English",Slovnik!D79,Slovnik!C79) -> Komunikace a zpevněné plochy | E11: =D11*I11 -> 0 | H11: =IF('0 Úvod'!$M$10="English",Slovnik!D79,Slovnik!C79) -> Komunikace a zpevněné plochy | I11: 20
C12: =IF('0 Úvod'!$M$10="English",Slovnik!D80,Slovnik!C80) -> Trakce | E12: =D12*I12 -> 0 | H12: =IF('0 Úvod'!$M$10="English",Slovnik!D80,Slovnik!C80) -> Trakce | I12: 30
C13: =IF('0 Úvod'!$M$10="English",Slovnik!D81,Slovnik!C81) -> Inženýrské sítě (trubní vedení, kabelovody) | E13: =D13*I13 -> 0 | H13: =IF('0 Úvod'!$M$10="English",Slovnik!D81,Slovnik!C81) -> Inženýrské sítě (trubní vedení, kabelovody) | I13: 20
C14: =IF('0 Úvod'!$M$10="English",Slovnik!D82,Slovnik!C82) -> Pozemní stavby, nástupiště a přístřešky | E14: =D14*I14 -> 0 | H14: =IF('0 Úvod'!$M$10="English",Slovnik!D82,Slovnik!C82) -> Pozemní stavby, nástupiště a přístřešky | I14: 40
C15: =IF('0 Úvod'!$M$10="English",Slovnik!D83,Slovnik!C83) -> Objekty ochrany životního prostředí | E15: =D15*I15 -> 0 | H15: =IF('0 Úvod'!$M$10="English",Slovnik!D83,Slovnik!C83) -> Objekty ochrany životního prostředí | I15: 30
B16: =IF('0 Úvod'!$M$10="English",Slovnik!$D$68,Slovnik!$C$68) -> SILNIČNÍ INFRASTRUKTURA | C16: =IF('0 Úvod'!$M$10="English",Slovnik!D84,Slovnik!C84) -> Obrusná vrstva - netuhé asfaltové | E16: =D16*I16 -> 0 | G16: =IF('0 Úvod'!$M$10="English",Slovnik!$D$68,Slovnik!$C$68) -> SILNIČNÍ INFRASTRUKTURA | H16: =IF('0 Úvod'!$M$10="English",Slovnik!D84,Slovnik!C84) -> Obrusná vrstva - netuhé asfaltové | I16: 12
C17: =IF('0 Úvod'!$M$10="English",Slovnik!D85,Slovnik!C85) -> Obrusná vrstva - tuhé cementobetonové | E17: =D17*I17 -> 0 | H17: =IF('0 Úvod'!$M$10="English",Slovnik!D85,Slovnik!C85) -> Obrusná vrstva - tuhé cementobetonové | I17: 25
C18: =IF('0 Úvod'!$M$10="English",Slovnik!D86,Slovnik!C86) -> Ložná vrstva - netuhé asfaltové | E18: =D18*I18 -> 0 | H18: =IF('0 Úvod'!$M$10="English",Slovnik!D86,Slovnik!C86) -> Ložná vrstva - netuhé asfaltové | I18: 20
C19: =IF('0 Úvod'!$M$10="English",Slovnik!D87,Slovnik!C87) -> Podkladní vrstvy | E19: =D19*I19 -> 0 | H19: =IF('0 Úvod'!$M$10="English",Slovnik!D87,Slovnik!C87) -> Podkladní vrstvy | I19: 40
C20: =IF('0 Úvod'!$M$10="English",Slovnik!D88,Slovnik!C88) -> Inženýrské sítě a komunikace | E20: =D20*I20 -> 0 | H20: =IF('0 Úvod'!$M$10="English",Slovnik!D88,Slovnik!C88) -> Inženýrské sítě a komunikace | I20: 20
C21: =IF('0 Úvod'!$M$10="English",Slovnik!D89,Slovnik!C89) -> Odvodňovací zařízení | E21: =D21*I21 -> 0 | H21: =IF('0 Úvod'!$M$10="English",Slovnik!D89,Slovnik!C89) -> Odvodňovací zařízení | I21: 50
C22: =IF('0 Úvod'!$M$10="English",Slovnik!D90,Slovnik!C90) -> Zemní těleso | E22: =D22*I22 -> 0 | H22: =IF('0 Úvod'!$M$10="English",Slovnik!D90,Slovnik!C90) -> Zemní těleso | I22: 65
C23: =IF('0 Úvod'!$M$10="English",Slovnik!D91,Slovnik!C91) -> Mosty | E23: =D23*I23 -> 0 | H23: =IF('0 Úvod'!$M$10="English",Slovnik!D91,Slovnik!C91) -> Mosty | I23: 75
C24: =IF('0 Úvod'!$M$10="English",Slovnik!D92,Slovnik!C92) -> Tunely | E24: =D24*I24 -> 0 | H24: =IF('0 Úvod'!$M$10="English",Slovnik!D92,Slovnik!C92) -> Tunely | I24: 90
B25: =IF('0 Úvod'!$M$10="English",Slovnik!$D$69,Slovnik!$C$69) -> VODNÍ INFRASTRUKTURA | C25: =IF('0 Úvod'!$M$10="English",Slovnik!D93,Slovnik!C93) -> Přístavní zdi | E25: =D25*I25 -> 0 | G25: =IF('0 Úvod'!$M$10="English",Slovnik!$D$69,Slovnik!$C$69) -> VODNÍ INFRASTRUKTURA | H25: =IF('0 Úvod'!$M$10="English",Slovnik!D93,Slovnik!C93) -> Přístavní zdi | I25: 50
C26: =IF('0 Úvod'!$M$10="English",Slovnik!D94,Slovnik!C94) -> Hrubé hydrotechnické konstrukce** | E26: =D26*I26 -> 0 | H26: =IF('0 Úvod'!$M$10="English",Slovnik!D94,Slovnik!C94) -> Hrubé hydrotechnické konstrukce** | I26: 80
C27: =IF('0 Úvod'!$M$10="English",Slovnik!D95,Slovnik!C95) -> Ocelové konstrukce*** | E27: =D27*I27 -> 0 | H27: =IF('0 Úvod'!$M$10="English",Slovnik!D95,Slovnik!C95) -> Ocelové konstrukce*** | I27: 50
C28: =IF('0 Úvod'!$M$10="English",Slovnik!D96,Slovnik!C96) -> Mosty, propustky, tunely a štoly | E28: =D28*I28 -> 0 | H28: =IF('0 Úvod'!$M$10="English",Slovnik!D96,Slovnik!C96) -> Mosty, propustky, tunely a štoly | I28: 75
C29: =IF('0 Úvod'!$M$10="English",Slovnik!D97,Slovnik!C97) -> Pozemní stavby | E29: =D29*I29 -> 0 | H29: =IF('0 Úvod'!$M$10="English",Slovnik!D97,Slovnik!C97) -> Pozemní stavby | I29: 40
C30: =IF('0 Úvod'!$M$10="English",Slovnik!D98,Slovnik!C98) -> Komunikace a zpevněné plochy | E30: =D30*I30 -> 0 | H30: =IF('0 Úvod'!$M$10="English",Slovnik!D98,Slovnik!C98) -> Komunikace a zpevněné plochy | I30: 20
C31: =IF('0 Úvod'!$M$10="English",Slovnik!D99,Slovnik!C99) -> Silnoproudá instalace | E31: =D31*I31 -> 0 | H31: =IF('0 Úvod'!$M$10="English",Slovnik!D99,Slovnik!C99) -> Silnoproudá instalace | I31: 20
C32: =IF('0 Úvod'!$M$10="English",Slovnik!D100,Slovnik!C100) -> Slaboproudá instalace | E32: =D32*I32 -> 0 | H32: =IF('0 Úvod'!$M$10="English",Slovnik!D100,Slovnik!C100) -> Slaboproudá instalace | I32: 20
C33: =IF('0 Úvod'!$M$10="English",Slovnik!D101,Slovnik!C101) -> Inženýrské objekty (trubní vedení a kabelovody) | E33: =D33*I33 -> 0 | H33: =IF('0 Úvod'!$M$10="English",Slovnik!D101,Slovnik!C101) -> Inženýrské objekty (trubní vedení a kabelovody) | I33: 20
C34: =IF('0 Úvod'!$M$10="English",Slovnik!D102,Slovnik!C102) -> Úpravy vodní cesty a terénní úpravy | E34: =D34*I34 -> 0 | H34: =IF('0 Úvod'!$M$10="English",Slovnik!D102,Slovnik!C102) -> Úpravy vodní cesty a terénní úpravy | I34: 80
C35: =IF('0 Úvod'!$M$10="English",Slovnik!D103,Slovnik!C103) -> Ochrana životního prostředí | E35: =D35*I35 -> 0 | H35: =IF('0 Úvod'!$M$10="English",Slovnik!D103,Slovnik!C103) -> Ochrana životního prostředí | I35: 30
B36: =IF('0 Úvod'!$M$10="English",Slovnik!$D$737,Slovnik!$C$737) -> OSTATNÍ** | C36: specifikujte | E36: =D36*I36 -> 0 | G36: =IF('0 Úvod'!$M$10="English",Slovnik!$D$737,Slovnik!$C$737) -> OSTATNÍ** | H36: =C36 -> specifikujte | I36: 10
C37: specifikujte | E37: =D37*I37 -> 0 | H37: =C37 -> specifikujte | I37: 10
C38: =IF('0 Úvod'!$M$10="English",Slovnik!D104,Slovnik!C104) -> CELKEM | D38: =SUM(D3:D37) -> 0 | E38: =SUM(E3:E37) -> 0
B39: =IF('0 Úvod'!$M$10="English",Slovnik!$D$107,Slovnik!$C$107) -> Celková životnost investice (roky) | E39: =IFERROR(ROUND(E38/D38,0),0) -> 0
B42: 2.3. a | C42: =IF('0 Úvod'!$M$10="English",Slovnik!D111,Slovnik!C111) -> Výpočet zůstatkové hodnoty pro FA | G42: 2.3. b | H42: =IF('0 Úvod'!$M$10="English",Slovnik!$D$117,Slovnik!$C$117) -> Výpočet zůstatkové hodnoty pro EA
C43: =IF('0 Úvod'!$M$10="English",Slovnik!D112,Slovnik!C112) -> Celková životnost investice | D43: =$E$39 -> 0 | H43: =IF('0 Úvod'!$M$10="English",Slovnik!D112,Slovnik!C112) -> Celková životnost investice | I43: =$E$39 -> 0
...

Sheet 3 Doprava a přeprava
B2: 3.1. | C2: Specifikace území (linek) dotčených projektem
B4: 3.2. | C4: Dopravní výkony (vozové km) | D4: ='0 Úvod'!G18 -> 2026 | E4: =D4+1 -> 2027 | F4: =E4+1 -> 2028 | G4: =F4+1 -> 2029 | H4: =G4+1 -> 2030 | I4: =H4+1 -> 2031 | J4: =I4+1 -> 2032 | K4: =J4+1 -> 2033 | L4: =K4+1 -> 2034 | ... R4: =Q4+1 -> 2040
B5: a | C5: Scénář s projektem
C6: vozové km, BUS
C7: vozové km, trolejbus
C8: vozové km, tramvaj
C9: vozové km, metro
C10: vozové km, IAD ovlivněná projektem
C11: Celkem | D11: =SUM(D6:D10) -> 0 | E11: =SUM(E6:E10) -> 0 | F11: =SUM(F6:F10) -> 0 | G11: =SUM(G6:G10) -> 0 | H11: =SUM(H6:H10) -> 0 | I11: =SUM(I6:I10) -> 0 | J11: =SUM(J6:J10) -> 0 | K11: =SUM(K6:K10) -> 0 | ... R11: =SUM(R6:R10) -> 0
B13: =B4 -> 3.2. | C13: =C4 -> Dopravní výkony (vozové km) | D13: =R4+1 -> 2041 | E13: =D13+1 -> 2042 | F13: =E13+1 -> 2043 | G13: =F13+1 -> 2044 | H13: =G13+1 -> 2045 | I13: =H13+1 -> 2046 | J13: =I13+1 -> 2047 | K13: =J13+1 -> 2048 | L13: =K13+1 -> 2049 | ... R13: =Q13+1 -> 2055
B14: b | C14: =C5 -> Scénář s projektem
C15: =C6 -> vozové km, BUS
C16: =C7 -> vozové km, trolejbus
C17: =C8 -> vozové km, tramvaj
C18: =C9 -> vozové km, metro
C19: =C10 -> vozové km, IAD ovlivněná projektem
C20: =C11 -> Celkem | D20: =SUM(D15:D19) -> 0 | E20: =SUM(E15:E19) -> 0 | F20: =SUM(F15:F19) -> 0 | G20: =SUM(G15:G19) -> 0 | H20: =SUM(H15:H19) -> 0 | I20: =SUM(I15:I19) -> 0 | J20: =SUM(J15:J19) -> 0 | K20: =SUM(K15:K19) -> 0 | ... R20: =SUM(R15:R19) -> 0
B22: 3.3. | C22: =C4 -> Dopravní výkony (vozové km) | D22: =D4 -> 2026 | E22: =D22+1 -> 2027 | F22: =E22+1 -> 2028 | G22: =F22+1 -> 2029 | H22: =G22+1 -> 2030 | I22: =H22+1 -> 2031 | J22: =I22+1 -> 2032 | K22: =J22+1 -> 2033 | L22: =K22+1 -> 2034 | ... R22: =Q22+1 -> 2040
B23: a | C23: Scénář bez projektu
C24: =C6 -> vozové km, BUS
C25: =C7 -> vozové km, trolejbus
C26: =C8 -> vozové km, tramvaj
C27: =C9 -> vozové km, metro
C28: =C10 -> vozové km, IAD ovlivněná projektem
C29: Celkem | D29: =SUM(D24:D28) -> 0 | E29: =SUM(E24:E28) -> 0 | F29: =SUM(F24:F28) -> 0 | G29: =SUM(G24:G28) -> 0 | H29: =SUM(H24:H28) -> 0 | I29: =SUM(I24:I28) -> 0 | J29: =SUM(J24:J28) -> 0 | K29: =SUM(K24:K28) -> 0 | ... R29: =SUM(R24:R28) -> 0
B31: =B22 -> 3.3. | C31: =C22 -> Dopravní výkony (vozové km) | D31: =R22+1 -> 2041 | E31: =D31+1 -> 2042 | F31: =E31+1 -> 2043 | G31: =F31+1 -> 2044 | H31: =G31+1 -> 2045 | I31: =H31+1 -> 2046 | J31: =I31+1 -> 2047 | K31: =J31+1 -> 2048 | L31: =K31+1 -> 2049 | ... R31: =Q31+1 -> 2055
B32: b | C32: =C23 -> Scénář bez projektu | D32: =R23+1 -> 1
C33: =C24 -> vozové km, BUS
C34: =C25 -> vozové km, trolejbus
C35: =C26 -> vozové km, tramvaj
C36: =C27 -> vozové km, metro
C37: =C28 -> vozové km, IAD ovlivněná projektem
C38: =C29 -> Celkem | D38: =SUM(D33:D37) -> 0 | E38: =SUM(E33:E37) -> 0 | F38: =SUM(F33:F37) -> 0 | G38: =SUM(G33:G37) -> 0 | H38: =SUM(H33:H37) -> 0 | I38: =SUM(I33:I37) -> 0 | J38: =SUM(J33:J37) -> 0 | K38: =SUM(K33:K37) -> 0 | ... R38: =SUM(R33:R37) -> 0
B40: 3.4. | C40: Přírůstkové dopravní výkony (vzkm) | D40: =D22 -> 2026 | E40: =D40+1 -> 2027 | F40: =E40+1 -> 2028 | G40: =F40+1 -> 2029 | H40: =G40+1 -> 2030 | I40: =H40+1 -> 2031 | J40: =I40+1 -> 2032 | K40: =J40+1 -> 2033 | L40: =K40+1 -> 2034 | ... R40: =Q40+1 -> 2040
B41: a
C42: =C33 -> vozové km, BUS | D42: =D6-D24 -> 0 | E42: =E6-E24 -> 0 | F42: =F6-F24 -> 0 | G42: =G6-G24 -> 0 | H42: =H6-H24 -> 0 | I42: =I6-I24 -> 0 | J42: =J6-J24 -> 0 | K42: =K6-K24 -> 0 | ... R42: =R6-R24 -> 0
C43: =C34 -> vozové km, trolejbus | D43: =D7-D25 -> 0 | E43: =E7-E25 -> 0 | F43: =F7-F25 -> 0 | G43: =G7-G25 -> 0 | H43: =H7-H25 -> 0 | I43: =I7-I25 -> 0 | J43: =J7-J25 -> 0 | K43: =K7-K25 -> 0 | ... R43: =R7-R25 -> 0
C44: =C35 -> vozové km, tramvaj | D44: =D8-D26 -> 0 | E44: =E8-E26 -> 0 | F44: =F8-F26 -> 0 | G44: =G8-G26 -> 0 | H44: =H8-H26 -> 0 | I44: =I8-I26 -> 0 | J44: =J8-J26 -> 0 | K44: =K8-K26 -> 0 | ... R44: =R8-R26 -> 0
C45: =C36 -> vozové km, metro | D45: =D9-D27 -> 0 | E45: =E9-E27 -> 0 | F45: =F9-F27 -> 0 | G45: =G9-G27 -> 0 | H45: =H9-H27 -> 0 | I45: =I9-I27 -> 0 | J45: =J9-J27 -> 0 | K45: =K9-K27 -> 0 | ... R45: =R9-R27 -> 0
C46: =C37 -> vozové km, IAD ovlivněná projektem | D46: =D10-D28 -> 0 | E46: =E10-E28 -> 0 | F46: =F10-F28 -> 0 | G46: =G10-G28 -> 0 | H46: =H10-H28 -> 0 | I46: =I10-I28 -> 0 | J46: =J10-J28 -> 0 | K46: =K10-K28 -> 0 | ... R46: =R10-R28 -> 0
...

Sheet 4 PN infrastruktury
B2: 4.1. | C2: =IF('0 Úvod'!$M$10="English",Slovnik!D123,Slovnik!C123) -> Celkové provozní náklady (CZK) | E2: ='1 CIN'!E3 -> 2026 | F2: =E2+1 -> 2027 | G2: =F2+1 -> 2028 | H2: =G2+1 -> 2029 | I2: =H2+1 -> 2030 | J2: =I2+1 -> 2031 | K2: =J2+1 -> 2032 | L2: =K2+1 -> 2033 | M2: =L2+1 -> 2034 | ... S2: =R2+1 -> 2040
B3: a | C3: =IF('0 Úvod'!$M$10="English",Slovnik!D124,Slovnik!C124) -> Scénář s projektem | D3: =IF('0 Úvod'!$M$10="English",Slovnik!$D$133,Slovnik!$C$133) -> Celkem
C4: =IF('0 Úvod'!$M$10="English",Slovnik!D125,Slovnik!C125) -> Náklady na údržbu a opravy - ŽELEZNIČNÍ infrastruktura | D4: =SUM(E4:S4,E17:S17) -> 0
C5: =IF('0 Úvod'!$M$10="English",Slovnik!D126,Slovnik!C126) -> Reinvestice (obnova) - ŽELEZNIČNÍ infrastruktura | D5: =SUM(E5:S5,E18:S18) -> 0
C6: =IF('0 Úvod'!$M$10="English",Slovnik!D127,Slovnik!C127) -> Náklady na řízení provozu - ŽELEZNIČNÍ doprava | D6: =SUM(E6:S6,E19:S19) -> 0 | E6: =IF(E2<=('0 Úvod'!$G$18+'0 Úvod'!$J$18-1),SUMPRODUCT(E105:E117,E139:E151)+E153,0) -> 0 | F6: =IF(F2<=('0 Úvod'!$G$18+'0 Úvod'!$J$18-1),SUMPRODUCT(F105:F117,F139:F151)+F153,0) -> 0 | G6: =IF(G2<=('0 Úvod'!$G$18+'0 Úvod'!$J$18-1),SUMPRODUCT(G105:G117,G139:G151)+G153,0) -> 0 | H6: =IF(H2<=('0 Úvod'!$G$18+'0 Úvod'!$J$18-1),SUMPRODUCT(H105:H117,H139:H151)+H153,0) -> 0 | I6: =IF(I2<=('0 Úvod'!$G$18+'0 Úvod'!$J$18-1),SUMPRODUCT(I105:I117,I139:I151)+I153,0) -> 0 | J6: =IF(J2<=('0 Úvod'!$G$18+'0 Úvod'!$J$18-1),SUMPRODUCT(J105:J117,J139:J151)+J153,0) -> 0 | K6: =IF(K2<=('0 Úvod'!$G$18+'0 Úvod'!$J$18-1),SUMPRODUCT(K105:K117,K139:K151)+K153,0) -> 0 | L6: =IF(L2<=('0 Úvod'!$G$18+'0 Úvod'!$J$18-1),SUMPRODUCT(L105:L117,L139:L151)+L153,0) -> 0 | ... S6: =IF(S2<=('0 Úvod'!$G$18+'0 Úvod'!$J$18-1),SUMPRODUCT(S105:S117,S139:S151)+S153,0) -> 0
C7: =C59 -> #REF! | D7: =SUM(E7:S7,E20:S20) -> 0
C8: =C60 -> #REF! | D8: =SUM(E8:S8,E21:S21) -> 0
C9: =IF('0 Úvod'!$M$10="English",Slovnik!D130,Slovnik!C130) -> Náklady na běžnou údržbu VODNÍ infrastruktury | D9: =SUM(E9:S9,E22:S22) -> 0
C10: =IF('0 Úvod'!$M$10="English",Slovnik!D131,Slovnik!C131) -> Náklady na opravy VODNÍ infrastruktury | D10: =SUM(E10:S10,E23:S23) -> 0
C11: =IF('0 Úvod'!$M$10="English",Slovnik!D731,Slovnik!C731) -> Náklady na běžnou údržbu infrastruktury | D11: =SUM(E11:S11,E24:S24) -> 0
C12: =IF('0 Úvod'!$M$10="English",Slovnik!D732,Slovnik!C732) -> Náklady na opravy a reinvestice | D12: =SUM(E12:S12,E25:S25) -> 0
C13: =IF('0 Úvod'!$M$10="English",Slovnik!D132,Slovnik!C132) -> Celkové PN infrastruktury | D13: =SUM(E13:S13,E26:S26) -> 0 | E13: =SUM(E4:E12) -> 0 | F13: =SUM(F4:F12) -> 0 | G13: =SUM(G4:G12) -> 0 | H13: =SUM(H4:H12) -> 0 | I13: =SUM(I4:I12) -> 0 | J13: =SUM(J4:J12) -> 0 | K13: =SUM(K4:K12) -> 0 | L13: =SUM(L4:L12) -> 0 | ... S13: =SUM(S4:S12) -> 0
B15: =B2 -> 4.1. | C15: =IF('0 Úvod'!$M$10="English",Slovnik!D123,Slovnik!C123) -> Celkové provozní náklady (CZK) | E15: =S2+1 -> 2041 | F15: =E15+1 -> 2042 | G15: =F15+1 -> 2043 | H15: =G15+1 -> 2044 | I15: =H15+1 -> 2045 | J15: =I15+1 -> 2046 | K15: =J15+1 -> 2047 | L15: =K15+1 -> 2048 | M15: =L15+1 -> 2049 | ... S15: =R15+1 -> 2055
B16: b | C16: =IF('0 Úvod'!$M$10="English",Slovnik!D124,Slovnik!C124) -> Scénář s projektem
C17: =IF('0 Úvod'!$M$10="English",Slovnik!D125,Slovnik!C125) -> Náklady na údržbu a opravy - ŽELEZNIČNÍ infrastruktura
C18: =IF('0 Úvod'!$M$10="English",Slovnik!D126,Slovnik!C126) -> Reinvestice (obnova) - ŽELEZNIČNÍ infrastruktura
C19: =IF('0 Úvod'!$M$10="English",Slovnik!D127,Slovnik!C127) -> Náklady na řízení provozu - ŽELEZNIČNÍ doprava | E19: =IF(E15<=('0 Úvod'!$G$18+'0 Úvod'!$J$18-1),SUMPRODUCT(E122:E134,E157:E169)+E171,0) -> 0 | F19: =IF(F15<=('0 Úvod'!$G$18+'0 Úvod'!$J$18-1),SUMPRODUCT(F122:F134,F157:F169)+F171,0) -> 0 | G19: =IF(G15<=('0 Úvod'!$G$18+'0 Úvod'!$J$18-1),SUMPRODUCT(G122:G134,G157:G169)+G171,0) -> 0 | H19: =IF(H15<=('0 Úvod'!$G$18+'0 Úvod'!$J$18-1),SUMPRODUCT(H122:H134,H157:H169)+H171,0) -> 0 | I19: =IF(I15<=('0 Úvod'!$G$18+'0 Úvod'!$J$18-1),SUMPRODUCT(I122:I134,I157:I169)+I171,0) -> 0 | J19: =IF(J15<=('0 Úvod'!$G$18+'0 Úvod'!$J$18-1),SUMPRODUCT(J122:J134,J157:J169)+J171,0) -> 0 | K19: =IF(K15<=('0 Úvod'!$G$18+'0 Úvod'!$J$18-1),SUMPRODUCT(K122:K134,K157:K169)+K171,0) -> 0 | L19: =IF(L15<=('0 Úvod'!$G$18+'0 Úvod'!$J$18-1),SUMPRODUCT(L122:L134,L157:L169)+L171,0) -> 0 | ... S19: =IF(S15<=('0 Úvod'!$G$18+'0 Úvod'!$J$18-1),SUMPRODUCT(S122:S134,S157:S169)+S171,0) -> 0
C20: =C72 -> #REF!
C21: =C73 -> #REF!
C22: =IF('0 Úvod'!$M$10="English",Slovnik!D130,Slovnik!C130) -> Náklady na běžnou údržbu VODNÍ infrastruktury
C23: =IF('0 Úvod'!$M$10="English",Slovnik!D131,Slovnik!C131) -> Náklady na opravy VODNÍ infrastruktury
C24: =IF('0 Úvod'!$M$10="English",Slovnik!D731,Slovnik!C731) -> Náklady na běžnou údržbu infrastruktury
C25: =IF('0 Úvod'!$M$10="English",Slovnik!D732,Slovnik!C732) -> Náklady na opravy a reinvestice
C26: =IF('0 Úvod'!$M$10="English",Slovnik!D132,Slovnik!C132) -> Celkové PN infrastruktury | E26: =SUM(E17:E25) -> 0 | F26: =SUM(F17:F25) -> 0 | G26: =SUM(G17:G25) -> 0 | H26: =SUM(H17:H25) -> 0 | I26: =SUM(I17:I25) -> 0 | J26: =SUM(J17:J25) -> 0 | K26: =SUM(K17:K25) -> 0 | L26: =SUM(L17:L25) -> 0 | ... S26: =SUM(S17:S25) -> 0
B28: 4.2. | C28: =IF('0 Úvod'!$M$10="English",Slovnik!D123,Slovnik!C123) -> Celkové provozní náklady (CZK) | E28: =E2 -> 2026 | F28: =E28+1 -> 2027 | G28: =F28+1 -> 2028 | H28: =G28+1 -> 2029 | I28: =H28+1 -> 2030 | J28: =I28+1 -> 2031 | K28: =J28+1 -> 2032 | L28: =K28+1 -> 2033 | M28: =L28+1 -> 2034 | ... S28: =R28+1 -> 2040
B29: a | C29: =IF('0 Úvod'!$M$10="English",Slovnik!D134,Slovnik!C134) -> Scénář bez projektu | D29: =D3 -> Celkem
C30: =IF('0 Úvod'!$M$10="English",Slovnik!D125,Slovnik!C125) -> Náklady na údržbu a opravy - ŽELEZNIČNÍ infrastruktura | D30: =SUM(E30:S30,E43:S43) -> 0
C31: =IF('0 Úvod'!$M$10="English",Slovnik!D126,Slovnik!C126) -> Reinvestice (obnova) - ŽELEZNIČNÍ infrastruktura | D31: =SUM(E31:S31,E44:S44) -> 0
C32: =IF('0 Úvod'!$M$10="English",Slovnik!D127,Slovnik!C127) -> Náklady na řízení provozu - ŽELEZNIČNÍ doprava | D32: =SUM(E32:S32,E45:S45) -> 0 | E32: =IF(E28<=('0 Úvod'!$G$18+'0 Úvod'!$J$18-1),SUMPRODUCT(E105:E117,E175:E187)+E189,0) -> 0 | F32: =IF(F28<=('0 Úvod'!$G$18+'0 Úvod'!$J$18-1),SUMPRODUCT(F105:F117,F175:F187)+F189,0) -> 0 | G32: =IF(G28<=('0 Úvod'!$G$18+'0 Úvod'!$J$18-1),SUMPRODUCT(G105:G117,G175:G187)+G189,0) -> 0 | H32: =IF(H28<=('0 Úvod'!$G$18+'0 Úvod'!$J$18-1),SUMPRODUCT(H105:H117,H175:H187)+H189,0) -> 0 | I32: =IF(I28<=('0 Úvod'!$G$18+'0 Úvod'!$J$18-1),SUMPRODUCT(I105:I117,I175:I187)+I189,0) -> 0 | J32: =IF(J28<=('0 Úvod'!$G$18+'0 Úvod'!$J$18-1),SUMPRODUCT(J105:J117,J175:J187)+J189,0) -> 0 | K32: =IF(K28<=('0 Úvod'!$G$18+'0 Úvod'!$J$18-1),SUMPRODUCT(K105:K117,K175:K187)+K189,0) -> 0 | L32: =IF(L28<=('0 Úvod'!$G$18+'0 Úvod'!$J$18-1),SUMPRODUCT(L105:L117,L175:L187)+L189,0) -> 0 | ... S32: =IF(S28<=('0 Úvod'!$G$18+'0 Úvod'!$J$18-1),SUMPRODUCT(S105:S117,S175:S187)+S189,0) -> 0
C33: =C59 -> #REF! | D33: =SUM(E33:S33,E46:S46) -> 0
C34: =C60 -> #REF! | D34: =SUM(E34:S34,E47:S47) -> 0
C35: =IF('0 Úvod'!$M$10="English",Slovnik!D130,Slovnik!C130) -> Náklady na běžnou údržbu VODNÍ infrastruktury | D35: =SUM(E35:S35,E48:S48) -> 0
C36: =IF('0 Úvod'!$M$10="English",Slovnik!D131,Slovnik!C131) -> Náklady na opravy VODNÍ infrastruktury | D36: =SUM(E36:S36,E49:S49) -> 0
C37: =IF('0 Úvod'!$M$10="English",Slovnik!D731,Slovnik!C731) -> Náklady na běžnou údržbu infrastruktury | D37: =SUM(E37:S37,E50:S50) -> 0
C38: =IF('0 Úvod'!$M$10="English",Slovnik!D732,Slovnik!C732) -> Náklady na opravy a reinvestice | D38: =SUM(E38:S38,E51:S51) -> 0
C39: =IF('0 Úvod'!$M$10="English",Slovnik!D132,Slovnik!C132) -> Celkové PN infrastruktury | D39: =SUM(E39:S39,E52:S52) -> 0 | E39: =SUM(E30:E38) -> 0 | F39: =SUM(F30:F38) -> 0 | G39: =SUM(G30:G38) -> 0 | H39: =SUM(H30:H38) -> 0 | I39: =SUM(I30:I38) -> 0 | J39: =SUM(J30:J38) -> 0 | K39: =SUM(K30:K38) -> 0 | L39: =SUM(L30:L38) -> 0 | ... S39: =SUM(S30:S38) -> 0
B41: =B28 -> 4.2. | C41: =IF('0 Úvod'!$M$10="English",Slovnik!D123,Slovnik!C123) -> Celkové provozní náklady (CZK) | E41: =S28+1 -> 2041 | F41: =E41+1 -> 2042 | G41: =F41+1 -> 2043 | H41: =G41+1 -> 2044 | I41: =H41+1 -> 2045 | J41: =I41+1 -> 2046 | K41: =J41+1 -> 2047 | L41: =K41+1 -> 2048 | M41: =L41+1 -> 2049 | ... S41: =R41+1 -> 2055
B42: b | C42: =IF('0 Úvod'!$M$10="English",Slovnik!D134,Slovnik!C134) -> Scénář bez projektu | E42: =S29+1 -> 1
C43: =IF('0 Úvod'!$M$10="English",Slovnik!D125,Slovnik!C125) -> Náklady na údržbu a opravy - ŽELEZNIČNÍ infrastruktura
C44: =IF('0 Úvod'!$M$10="English",Slovnik!D126,Slovnik!C126) -> Reinvestice (obnova) - ŽELEZNIČNÍ infrastruktura
...

Sheet 5 PN vozidel MHD
B2: 5.1. | C2: Jednotkové náklady (Kč/vozový km) | E2: =E71 -> 2026 | F2: =E2+1 -> 2027 | G2: =F2+1 -> 2028 | H2: =G2+1 -> 2029 | I2: =H2+1 -> 2030 | J2: =I2+1 -> 2031 | K2: =J2+1 -> 2032 | L2: =K2+1 -> 2033 | M2: =L2+1 -> 2034 | ... S2: =R2+1 -> 2040
B3: a | C3: =C44 -> Scénář s projektem | D3: Průměr
C4: jednotkové náklady BUS (Kč/vzkm) | D4: =IFERROR(AVERAGE(E4:S4,E12:S12),0) -> 0
C5: jednotkové náklady trolejbus (Kč/vzkm) | D5: =IFERROR(AVERAGE(E5:S5,E13:S13),0) -> 0
C6: jednotkové náklady tramvaj (Kč/vzkm) | D6: =IFERROR(AVERAGE(E6:S6,E14:S14),0) -> 0
C7: jednotkové náklady metro (Kč/vzkm) | D7: =IFERROR(AVERAGE(E7:S7,E15:S15),0) -> 0
C8: =D3 -> Průměr | E8: =IFERROR(AVERAGE(E4:E7),0) -> 0 | F8: =IFERROR(AVERAGE(F4:F7),0) -> 0 | G8: =IFERROR(AVERAGE(G4:G7),0) -> 0 | H8: =IFERROR(AVERAGE(H4:H7),0) -> 0 | I8: =IFERROR(AVERAGE(I4:I7),0) -> 0 | J8: =IFERROR(AVERAGE(J4:J7),0) -> 0 | K8: =IFERROR(AVERAGE(K4:K7),0) -> 0 | L8: =IFERROR(AVERAGE(L4:L7),0) -> 0 | ... S8: =IFERROR(AVERAGE(S4:S7),0) -> 0
B10: =B2 -> 5.1. | C10: =C2 -> Jednotkové náklady (Kč/vozový km) | E10: =S2+1 -> 2041 | F10: =E10+1 -> 2042 | G10: =F10+1 -> 2043 | H10: =G10+1 -> 2044 | I10: =H10+1 -> 2045 | J10: =I10+1 -> 2046 | K10: =J10+1 -> 2047 | L10: =K10+1 -> 2048 | M10: =L10+1 -> 2049 | ... S10: =R10+1 -> 2055
B11: b | C11: =C3 -> Scénář s projektem
C12: =C4 -> jednotkové náklady BUS (Kč/vzkm)
C13: =C5 -> jednotkové náklady trolejbus (Kč/vzkm)
C14: =C6 -> jednotkové náklady tramvaj (Kč/vzkm)
C15: =C7 -> jednotkové náklady metro (Kč/vzkm)
C16: =C8 -> Průměr | E16: =IFERROR(AVERAGE(E12:E15),0) -> 0 | F16: =IFERROR(AVERAGE(F12:F15),0) -> 0 | G16: =IFERROR(AVERAGE(G12:G15),0) -> 0 | H16: =IFERROR(AVERAGE(H12:H15),0) -> 0 | I16: =IFERROR(AVERAGE(I12:I15),0) -> 0 | J16: =IFERROR(AVERAGE(J12:J15),0) -> 0 | K16: =IFERROR(AVERAGE(K12:K15),0) -> 0 | L16: =IFERROR(AVERAGE(L12:L15),0) -> 0 | ... S16: =IFERROR(AVERAGE(S12:S15),0) -> 0
B18: 5.2. | C18: =C2 -> Jednotkové náklady (Kč/vozový km) | E18: =E2 -> 2026 | F18: =E18+1 -> 2027 | G18: =F18+1 -> 2028 | H18: =G18+1 -> 2029 | I18: =H18+1 -> 2030 | J18: =I18+1 -> 2031 | K18: =J18+1 -> 2032 | L18: =K18+1 -> 2033 | M18: =L18+1 -> 2034 | ... S18: =R18+1 -> 2040
B19: a | C19: =C53 -> Scénář bez projektu | D19: =C8 -> Průměr
C20: =C4 -> jednotkové náklady BUS (Kč/vzkm) | D20: =IFERROR(AVERAGE(E20:S20,E28:S28),0) -> 0
C21: =C5 -> jednotkové náklady trolejbus (Kč/vzkm) | D21: =IFERROR(AVERAGE(E21:S21,E29:S29),0) -> 0
C22: =C6 -> jednotkové náklady tramvaj (Kč/vzkm) | D22: =IFERROR(AVERAGE(E22:S22,E30:S30),0) -> 0
C23: =C7 -> jednotkové náklady metro (Kč/vzkm) | D23: =IFERROR(AVERAGE(E23:S23,E31:S31),0) -> 0
C24: =D19 -> Průměr | E24: =IFERROR(AVERAGE(E20:E23),0) -> 0 | F24: =IFERROR(AVERAGE(F20:F23),0) -> 0 | G24: =IFERROR(AVERAGE(G20:G23),0) -> 0 | H24: =IFERROR(AVERAGE(H20:H23),0) -> 0 | I24: =IFERROR(AVERAGE(I20:I23),0) -> 0 | J24: =IFERROR(AVERAGE(J20:J23),0) -> 0 | K24: =IFERROR(AVERAGE(K20:K23),0) -> 0 | L24: =IFERROR(AVERAGE(L20:L23),0) -> 0 | ... S24: =IFERROR(AVERAGE(S20:S23),0) -> 0
B26: =B18 -> 5.2. | C26: =C18 -> Jednotkové náklady (Kč/vozový km) | E26: =S18+1 -> 2041 | F26: =E26+1 -> 2042 | G26: =F26+1 -> 2043 | H26: =G26+1 -> 2044 | I26: =H26+1 -> 2045 | J26: =I26+1 -> 2046 | K26: =J26+1 -> 2047 | L26: =K26+1 -> 2048 | M26: =L26+1 -> 2049 | ... S26: =R26+1 -> 2055
B27: b | C27: =C19 -> Scénář bez projektu | E27: =S19+1 -> 1
C28: =C20 -> jednotkové náklady BUS (Kč/vzkm)
C29: =C21 -> jednotkové náklady trolejbus (Kč/vzkm)
C30: =C22 -> jednotkové náklady tramvaj (Kč/vzkm)
C31: =C23 -> jednotkové náklady metro (Kč/vzkm)
C32: =C24 -> Průměr | E32: =IFERROR(AVERAGE(E28:E31),0) -> 0 | F32: =IFERROR(AVERAGE(F28:F31),0) -> 0 | G32: =IFERROR(AVERAGE(G28:G31),0) -> 0 | H32: =IFERROR(AVERAGE(H28:H31),0) -> 0 | I32: =IFERROR(AVERAGE(I28:I31),0) -> 0 | J32: =IFERROR(AVERAGE(J28:J31),0) -> 0 | K32: =IFERROR(AVERAGE(K28:K31),0) -> 0 | L32: =IFERROR(AVERAGE(L28:L31),0) -> 0 | ... S32: =IFERROR(AVERAGE(S28:S31),0) -> 0
B34: 4.1. | C34: Celkové provozní náklady vozidel MHD | E34: ='1 CIN'!E3 -> 2026 | F34: =E34+1 -> 2027 | G34: =F34+1 -> 2028 | H34: =G34+1 -> 2029 | I34: =H34+1 -> 2030 | J34: =I34+1 -> 2031 | K34: =J34+1 -> 2032 | L34: =K34+1 -> 2033 | M34: =L34+1 -> 2034 | ... S34: =R34+1 -> 2040
B35: a | C35: =IF('0 Úvod'!$M$10="English",Slovnik!D167,Slovnik!C167) -> Scénář s projektem | D35: =IF('0 Úvod'!$M$10="English",Slovnik!D175,Slovnik!C175) -> Celkem
C36: =IF('0 Úvod'!$M$10="English",Slovnik!D733,Slovnik!C733) -> Náklady na provoz MĚSTSKÝCH AUTOBUSŮ | D36: =SUM(E36:S36,E45:S45) -> 0 | E36: =E4*'3 Doprava a přeprava'!D6 -> 0 | F36: =F4*'3 Doprava a přeprava'!E6 -> 0 | G36: =G4*'3 Doprava a přeprava'!F6 -> 0 | H36: =H4*'3 Doprava a přeprava'!G6 -> 0 | I36: =I4*'3 Doprava a přeprava'!H6 -> 0 | J36: =J4*'3 Doprava a přeprava'!I6 -> 0 | K36: =K4*'3 Doprava a přeprava'!J6 -> 0 | L36: =L4*'3 Doprava a přeprava'!K6 -> 0 | ... S36: =S4*'3 Doprava a přeprava'!R6 -> 0
C37: Náklady na provoz TROLEJBUS | D37: =SUM(E37:S37,E46:S46) -> 0 | E37: =E5*'3 Doprava a přeprava'!D7 -> 0 | F37: =F5*'3 Doprava a přeprava'!E7 -> 0 | G37: =G5*'3 Doprava a přeprava'!F7 -> 0 | H37: =H5*'3 Doprava a přeprava'!G7 -> 0 | I37: =I5*'3 Doprava a přeprava'!H7 -> 0 | J37: =J5*'3 Doprava a přeprava'!I7 -> 0 | K37: =K5*'3 Doprava a přeprava'!J7 -> 0 | L37: =L5*'3 Doprava a přeprava'!K7 -> 0 | ... S37: =S5*'3 Doprava a přeprava'!R7 -> 0
C38: Náklady na provoz TRAMVAJ | D38: =SUM(E38:S38,E47:S47) -> 0 | E38: =E6*'3 Doprava a přeprava'!D8 -> 0 | F38: =F6*'3 Doprava a přeprava'!E8 -> 0 | G38: =G6*'3 Doprava a přeprava'!F8 -> 0 | H38: =H6*'3 Doprava a přeprava'!G8 -> 0 | I38: =I6*'3 Doprava a přeprava'!H8 -> 0 | J38: =J6*'3 Doprava a přeprava'!I8 -> 0 | K38: =K6*'3 Doprava a přeprava'!J8 -> 0 | L38: =L6*'3 Doprava a přeprava'!K8 -> 0 | ... S38: =S6*'3 Doprava a přeprava'!R8 -> 0
C39: Náklady na provoz METRA | D39: =SUM(E39:S39,E48:S48) -> 0 | E39: =E7*'3 Doprava a přeprava'!D9 -> 0 | F39: =F7*'3 Doprava a přeprava'!E9 -> 0 | G39: =G7*'3 Doprava a přeprava'!F9 -> 0 | H39: =H7*'3 Doprava a přeprava'!G9 -> 0 | I39: =I7*'3 Doprava a přeprava'!H9 -> 0 | J39: =J7*'3 Doprava a přeprava'!I9 -> 0 | K39: =K7*'3 Doprava a přeprava'!J9 -> 0 | L39: =L7*'3 Doprava a přeprava'!K9 -> 0 | ... S39: =S7*'3 Doprava a přeprava'!R9 -> 0
C40: ostatní, specifikujte | D40: =SUM(E40:S40,E49:S49) -> 0
C41: =IF('0 Úvod'!$M$10="English",Slovnik!D174,Slovnik!C174) -> Celkové provozní náklady vozidel | D41: =SUM(E41:S41,E50:S50) -> 0 | E41: =SUM(E36:E40) -> 0 | F41: =SUM(F36:F40) -> 0 | G41: =SUM(G36:G40) -> 0 | H41: =SUM(H36:H40) -> 0 | I41: =SUM(I36:I40) -> 0 | J41: =SUM(J36:J40) -> 0 | K41: =SUM(K36:K40) -> 0 | L41: =SUM(L36:L40) -> 0 | ... S41: =SUM(S36:S40) -> 0
B43: 4.1. | C43: =C34 -> Celkové provozní náklady vozidel MHD | E43: =S34+1 -> 2041 | F43: =E43+1 -> 2042 | G43: =F43+1 -> 2043 | H43: =G43+1 -> 2044 | I43: =H43+1 -> 2045 | J43: =I43+1 -> 2046 | K43: =J43+1 -> 2047 | L43: =K43+1 -> 2048 | M43: =L43+1 -> 2049 | ... S43: =R43+1 -> 2055
B44: b | C44: =C35 -> Scénář s projektem
C45: =C36 -> Náklady na provoz MĚSTSKÝCH AUTOBUSŮ | E45: =E12*'3 Doprava a přeprava'!D15 -> 0 | F45: =F12*'3 Doprava a přeprava'!E15 -> 0 | G45: =G12*'3 Doprava a přeprava'!F15 -> 0 | H45: =H12*'3 Doprava a přeprava'!G15 -> 0 | I45: =I12*'3 Doprava a přeprava'!H15 -> 0 | J45: =J12*'3 Doprava a přeprava'!I15 -> 0 | K45: =K12*'3 Doprava a přeprava'!J15 -> 0 | L45: =L12*'3 Doprava a přeprava'!K15 -> 0 | ... S45: =S12*'3 Doprava a přeprava'!R15 -> 0
C46: =C37 -> Náklady na provoz TROLEJBUS | E46: =E13*'3 Doprava a přeprava'!D16 -> 0 | F46: =F13*'3 Doprava a přeprava'!E16 -> 0 | G46: =G13*'3 Doprava a přeprava'!F16 -> 0 | H46: =H13*'3 Doprava a přeprava'!G16 -> 0 | I46: =I13*'3 Doprava a přeprava'!H16 -> 0 | J46: =J13*'3 Doprava a přeprava'!I16 -> 0 | K46: =K13*'3 Doprava a přeprava'!J16 -> 0 | L46: =L13*'3 Doprava a přeprava'!K16 -> 0 | ... S46: =S13*'3 Doprava a přeprava'!R16 -> 0
...

Sheet 6 Příjmy
B2: 6.1. | C2: =IF('0 Úvod'!$M$10="English",Slovnik!D414,Slovnik!C414) -> Celkové provozní příjmy (CZK) | E2: ='0 Úvod'!G18 -> 2026 | F2: =E2+1 -> 2027 | G2: =F2+1 -> 2028 | H2: =G2+1 -> 2029 | I2: =H2+1 -> 2030 | J2: =I2+1 -> 2031 | K2: =J2+1 -> 2032 | L2: =K2+1 -> 2033 | M2: =L2+1 -> 2034 | ... S2: =R2+1 -> 2040
B3: a | C3: =IF('0 Úvod'!$M$10="English",Slovnik!D410,Slovnik!C410) -> Scénář s projektem | D3: =IF('0 Úvod'!$M$10="English",Slovnik!$D$415,Slovnik!$C$415) -> Celkem
C4: Tržby z jízdného | D4: =SUM(E4:S4,E11:S11) -> 0
C5: =IF('0 Úvod'!$M$10="English",Slovnik!D412,Slovnik!C412) -> Provozní příjmy - nákladní doprava | D5: =SUM(E5:S5,E12:S12) -> 0
C6: Ostatní tržby z přepravy, pronájmy, apod. | D6: =SUM(E6:S6,E13:S13) -> 0
C7: =IF('0 Úvod'!$M$10="English",Slovnik!D414,Slovnik!C414) -> Celkové provozní příjmy (CZK) | D7: =SUM(E7:S7,E14:S14) -> 0 | E7: =SUM(E4:E6) -> 0 | F7: =SUM(F4:F6) -> 0 | G7: =SUM(G4:G6) -> 0 | H7: =SUM(H4:H6) -> 0 | I7: =SUM(I4:I6) -> 0 | J7: =SUM(J4:J6) -> 0 | K7: =SUM(K4:K6) -> 0 | L7: =SUM(L4:L6) -> 0 | ... S7: =SUM(S4:S6) -> 0
B9: =B2 -> 6.1. | C9: =C2 -> Celkové provozní příjmy (CZK) | E9: =S2+1 -> 2041 | F9: =E9+1 -> 2042 | G9: =F9+1 -> 2043 | H9: =G9+1 -> 2044 | I9: =H9+1 -> 2045 | J9: =I9+1 -> 2046 | K9: =J9+1 -> 2047 | L9: =K9+1 -> 2048 | M9: =L9+1 -> 2049 | ... S9: =R9+1 -> 2055
B10: b | C10: =C3 -> Scénář s projektem
C11: =C4 -> Tržby z jízdného
C12: =C5 -> Provozní příjmy - nákladní doprava
C13: =C6 -> Ostatní tržby z přepravy, pronájmy, apod.
C14: =C7 -> Celkové provozní příjmy (CZK) | E14: =SUM(E11:E13) -> 0 | F14: =SUM(F11:F13) -> 0 | G14: =SUM(G11:G13) -> 0 | H14: =SUM(H11:H13) -> 0 | I14: =SUM(I11:I13) -> 0 | J14: =SUM(J11:J13) -> 0 | K14: =SUM(K11:K13) -> 0 | L14: =SUM(L11:L13) -> 0 | ... S14: =SUM(S11:S13) -> 0
B16: 6.2. | C16: =C9 -> Celkové provozní příjmy (CZK) | E16: =E2 -> 2026 | F16: =E16+1 -> 2027 | G16: =F16+1 -> 2028 | H16: =G16+1 -> 2029 | I16: =H16+1 -> 2030 | J16: =I16+1 -> 2031 | K16: =J16+1 -> 2032 | L16: =K16+1 -> 2033 | M16: =L16+1 -> 2034 | ... S16: =R16+1 -> 2040
B17: a | C17: =IF('0 Úvod'!$M$10="English",Slovnik!$D$416,Slovnik!$C$416) -> Scénář bez projektu | D17: =D3 -> Celkem
C18: =C11 -> Tržby z jízdného | D18: =SUM(E18:S18,E25:S25) -> 0
C19: =C12 -> Provozní příjmy - nákladní doprava | D19: =SUM(E19:S19,E26:S26) -> 0
C20: =C13 -> Ostatní tržby z přepravy, pronájmy, apod. | D20: =SUM(E20:S20,E27:S27) -> 0
C21: =C14 -> Celkové provozní příjmy (CZK) | D21: =SUM(E21:S21,E28:S28) -> 0 | E21: =SUM(E18:E20) -> 0 | F21: =SUM(F18:F20) -> 0 | G21: =SUM(G18:G20) -> 0 | H21: =SUM(H18:H20) -> 0 | I21: =SUM(I18:I20) -> 0 | J21: =SUM(J18:J20) -> 0 | K21: =SUM(K18:K20) -> 0 | L21: =SUM(L18:L20) -> 0 | ... S21: =SUM(S18:S20) -> 0
B23: =B16 -> 6.2. | C23: =C16 -> Celkové provozní příjmy (CZK) | E23: =S16+1 -> 2041 | F23: =E23+1 -> 2042 | G23: =F23+1 -> 2043 | H23: =G23+1 -> 2044 | I23: =H23+1 -> 2045 | J23: =I23+1 -> 2046 | K23: =J23+1 -> 2047 | L23: =K23+1 -> 2048 | M23: =L23+1 -> 2049 | ... S23: =R23+1 -> 2055
B24: b | C24: =C17 -> Scénář bez projektu
C25: =C18 -> Tržby z jízdného
C26: =C19 -> Provozní příjmy - nákladní doprava
C27: =C20 -> Ostatní tržby z přepravy, pronájmy, apod.
C28: =C21 -> Celkové provozní příjmy (CZK) | E28: =SUM(E25:E27) -> 0 | F28: =SUM(F25:F27) -> 0 | G28: =SUM(G25:G27) -> 0 | H28: =SUM(H25:H27) -> 0 | I28: =SUM(I25:I27) -> 0 | J28: =SUM(J25:J27) -> 0 | K28: =SUM(K25:K27) -> 0 | L28: =SUM(L25:L27) -> 0 | ... S28: =SUM(S25:S27) -> 0
B30: 6.3. | C30: =IF('0 Úvod'!$M$10="English",Slovnik!D417,Slovnik!C417) -> Celkové přírůstkové provozní příjmy (CZK) | E30: =E2 -> 2026 | F30: =E30+1 -> 2027 | G30: =F30+1 -> 2028 | H30: =G30+1 -> 2029 | I30: =H30+1 -> 2030 | J30: =I30+1 -> 2031 | K30: =J30+1 -> 2032 | L30: =K30+1 -> 2033 | M30: =L30+1 -> 2034 | ... S30: =R30+1 -> 2040
B31: a | C31: =IF('0 Úvod'!$M$10="English",Slovnik!D418,Slovnik!C418) -> Přírůstek cash-flow | D31: =D17 -> Celkem
C32: =C25 -> Tržby z jízdného | D32: =SUM(E32:S32,E39:S39) -> 0 | E32: =E4-E18 -> 0 | F32: =F4-F18 -> 0 | G32: =G4-G18 -> 0 | H32: =H4-H18 -> 0 | I32: =I4-I18 -> 0 | J32: =J4-J18 -> 0 | K32: =K4-K18 -> 0 | L32: =L4-L18 -> 0 | ... S32: =S4-S18 -> 0
C33: =C26 -> Provozní příjmy - nákladní doprava | D33: =SUM(E33:S33,#REF!) -> #REF! | E33: =E5-E19 -> 0 | F33: =F5-F19 -> 0 | G33: =G5-G19 -> 0 | H33: =H5-H19 -> 0 | I33: =I5-I19 -> 0 | J33: =J5-J19 -> 0 | K33: =K5-K19 -> 0 | L33: =L5-L19 -> 0 | ... S33: =S5-S19 -> 0
C34: =C27 -> Ostatní tržby z přepravy, pronájmy, apod. | D34: =SUM(E34:S34,E40:S40) -> 0 | E34: =E6-E20 -> 0 | F34: =F6-F20 -> 0 | G34: =G6-G20 -> 0 | H34: =H6-H20 -> 0 | I34: =I6-I20 -> 0 | J34: =J6-J20 -> 0 | K34: =K6-K20 -> 0 | L34: =L6-L20 -> 0 | ... S34: =S6-S20 -> 0
C35: =C30 -> Celkové přírůstkové provozní příjmy (CZK) | D35: =SUM(E35:S35,E41:S41) -> 0 | E35: =E7-E21 -> 0 | F35: =F7-F21 -> 0 | G35: =G7-G21 -> 0 | H35: =H7-H21 -> 0 | I35: =I7-I21 -> 0 | J35: =J7-J21 -> 0 | K35: =K7-K21 -> 0 | L35: =L7-L21 -> 0 | ... S35: =S7-S21 -> 0
B37: =B30 -> 6.3. | C37: =C30 -> Celkové přírůstkové provozní příjmy (CZK) | E37: =S30+1 -> 2041 | F37: =E37+1 -> 2042 | G37: =F37+1 -> 2043 | H37: =G37+1 -> 2044 | I37: =H37+1 -> 2045 | J37: =I37+1 -> 2046 | K37: =J37+1 -> 2047 | L37: =K37+1 -> 2048 | M37: =L37+1 -> 2049 | ... S37: =R37+1 -> 2055
B38: b | C38: =C31 -> Přírůstek cash-flow
C39: =C32 -> Tržby z jízdného | E39: =E11-E25 -> 0 | F39: =F11-F25 -> 0 | G39: =G11-G25 -> 0 | H39: =H11-H25 -> 0 | I39: =I11-I25 -> 0 | J39: =J11-J25 -> 0 | K39: =K11-K25 -> 0 | L39: =L11-L25 -> 0 | ... S39: =S11-S25 -> 0
C40: =C34 -> Ostatní tržby z přepravy, pronájmy, apod. | E40: =E13-E27 -> 0 | F40: =F13-F27 -> 0 | G40: =G13-G27 -> 0 | H40: =H13-H27 -> 0 | I40: =I13-I27 -> 0 | J40: =J13-J27 -> 0 | K40: =K13-K27 -> 0 | L40: =L13-L27 -> 0 | ... S40: =S13-S27 -> 0
C41: =C35 -> Celkové přírůstkové provozní příjmy (CZK) | E41: =E14-E28 -> 0 | F41: =F14-F28 -> 0 | G41: =G14-G28 -> 0 | H41: =H14-H28 -> 0 | I41: =I14-I28 -> 0 | J41: =J14-J28 -> 0 | K41: =K14-K28 -> 0 | L41: =L14-L28 -> 0 | ... S41: =S14-S28 -> 0
C43: =IF('0 Úvod'!$M$10="English",Slovnik!D419,Slovnik!C419) -> Scénář s projektem (CZK) | D43: =D7 -> 0
C44: =IF('0 Úvod'!$M$10="English",Slovnik!D420,Slovnik!C420) -> Scénář bez projektu (CZK) | D44: =D21 -> 0
C45: =IF('0 Úvod'!$M$10="English",Slovnik!D421,Slovnik!C421) -> Přírůstek cash-flow (CZK) | D45: =D35 -> 0
B48: 8.4. | C48: =IF('0 Úvod'!$M$10="English",Slovnik!$D$422,Slovnik!$C$422) -> Celkové výkony | E48: =E2 -> 2026 | F48: =E48+1 -> 2027 | G48: =F48+1 -> 2028 | H48: =G48+1 -> 2029 | I48: =H48+1 -> 2030 | J48: =I48+1 -> 2031 | K48: =J48+1 -> 2032 | L48: =K48+1 -> 2033 | M48: =L48+1 -> 2034 | ... S48: =R48+1 -> 2040
B49: a | C49: =C10 -> Scénář s projektem | D49: =D31 -> Celkem
...

Sheet 7 Finanční analýza
B2: 7.1. | C2: Finanční analýza projektu | E2: ='0 Úvod'!G18 -> 2026 | F2: =E2+1 -> 2027 | G2: =F2+1 -> 2028 | H2: =G2+1 -> 2029 | I2: =H2+1 -> 2030 | J2: =I2+1 -> 2031 | K2: =J2+1 -> 2032 | L2: =K2+1 -> 2033 | M2: =L2+1 -> 2034 | ... S2: =R2+1 -> 2040 | U2: PN infrastruktury | V2: PN vozidel
B3: a | D3: =IF('0 Úvod'!$M$10="English",Slovnik!$D$444,Slovnik!$C$444) -> Celkem | U3: ŽELEZNIČNÍ | V3: ŽELEZNIČNÍ
C4: =IF('0 Úvod'!$M$10="English",Slovnik!D434,Slovnik!C434) -> Celkové přírůstkové provozní příjmy | D4: =SUM(E4:S4,E25:S25) -> 0 | E4: =IF(E2<=('0 Úvod'!$G$18+'0 Úvod'!$J$18-1),'6 Příjmy'!E35,0) -> 0 | F4: =IF(F2<=('0 Úvod'!$G$18+'0 Úvod'!$J$18-1),'6 Příjmy'!F35,0) -> 0 | G4: =IF(G2<=('0 Úvod'!$G$18+'0 Úvod'!$J$18-1),'6 Příjmy'!G35,0) -> 0 | H4: =IF(H2<=('0 Úvod'!$G$18+'0 Úvod'!$J$18-1),'6 Příjmy'!H35,0) -> 0 | I4: =IF(I2<=('0 Úvod'!$G$18+'0 Úvod'!$J$18-1),'6 Příjmy'!I35,0) -> 0 | J4: =IF(J2<=('0 Úvod'!$G$18+'0 Úvod'!$J$18-1),'6 Příjmy'!J35,0) -> 0 | K4: =IF(K2<=('0 Úvod'!$G$18+'0 Úvod'!$J$18-1),'6 Příjmy'!K35,0) -> 0 | L4: =IF(L2<=('0 Úvod'!$G$18+'0 Úvod'!$J$18-1),'6 Příjmy'!L35,0) -> 0 | ... S4: =IF(S2<=('0 Úvod'!$G$18+'0 Úvod'!$J$18-1),'6 Příjmy'!S35,0) -> 0 | U4: SILNIČNÍ | V4: SILNIČNÍ
C5: =IF('0 Úvod'!$M$10="English",Slovnik!D435,Slovnik!C435) -> Celkové výnosy | D5: =SUM(D4) -> 0 | E5: =SUM(E4) -> 0 | F5: =SUM(F4) -> 0 | G5: =SUM(G4) -> 0 | H5: =SUM(H4) -> 0 | I5: =SUM(I4) -> 0 | J5: =SUM(J4) -> 0 | K5: =SUM(K4) -> 0 | ... S5: =SUM(S4) -> 0 | U5: VODNÍ | V5: VODNÍ
C6: =IF('0 Úvod'!$M$10="English",Slovnik!D436,Slovnik!C436) -> Celkové přírůstkové provozní náklady infrastruktury | D6: =SUM(E6:S6,E27:S27) -> 0 | E6: =IF(E2<=('0 Úvod'!$G$18+'0 Úvod'!$J$18-1),'4 PN infrastruktury'!E65,0) -> 0 | F6: =IF(F2<=('0 Úvod'!$G$18+'0 Úvod'!$J$18-1),'4 PN infrastruktury'!F65,0) -> 0 | G6: =IF(G2<=('0 Úvod'!$G$18+'0 Úvod'!$J$18-1),'4 PN infrastruktury'!G65,0) -> 0 | H6: =IF(H2<=('0 Úvod'!$G$18+'0 Úvod'!$J$18-1),'4 PN infrastruktury'!H65,0) -> 0 | I6: =IF(I2<=('0 Úvod'!$G$18+'0 Úvod'!$J$18-1),'4 PN infrastruktury'!I65,0) -> 0 | J6: =IF(J2<=('0 Úvod'!$G$18+'0 Úvod'!$J$18-1),'4 PN infrastruktury'!J65,0) -> 0 | K6: =IF(K2<=('0 Úvod'!$G$18+'0 Úvod'!$J$18-1),'4 PN infrastruktury'!K65,0) -> 0 | L6: =IF(L2<=('0 Úvod'!$G$18+'0 Úvod'!$J$18-1),'4 PN infrastruktury'!L65,0) -> 0 | ... S6: =IF(S2<=('0 Úvod'!$G$18+'0 Úvod'!$J$18-1),'4 PN infrastruktury'!S65,0) -> 0 | U6: OSTATNÍ | V6: MHD
C7: =IF('0 Úvod'!$M$10="English",Slovnik!D437,Slovnik!C437) -> Celkové přírůstkové provozní náklady vozidel | D7: =SUM(E7:S7,E28:S28) -> 0 | E7: =IF(E2<=('0 Úvod'!$G$18+'0 Úvod'!$J$18-1),'5 PN vozidel MHD'!E78,0) -> 0 | F7: =IF(F2<=('0 Úvod'!$G$18+'0 Úvod'!$J$18-1),'5 PN vozidel MHD'!F78,0) -> 0 | G7: =IF(G2<=('0 Úvod'!$G$18+'0 Úvod'!$J$18-1),'5 PN vozidel MHD'!G78,0) -> 0 | H7: =IF(H2<=('0 Úvod'!$G$18+'0 Úvod'!$J$18-1),'5 PN vozidel MHD'!H78,0) -> 0 | I7: =IF(I2<=('0 Úvod'!$G$18+'0 Úvod'!$J$18-1),'5 PN vozidel MHD'!I78,0) -> 0 | J7: =IF(J2<=('0 Úvod'!$G$18+'0 Úvod'!$J$18-1),'5 PN vozidel MHD'!J78,0) -> 0 | K7: =IF(K2<=('0 Úvod'!$G$18+'0 Úvod'!$J$18-1),'5 PN vozidel MHD'!K78,0) -> 0 | L7: =IF(L2<=('0 Úvod'!$G$18+'0 Úvod'!$J$18-1),'5 PN vozidel MHD'!L78,0) -> 0 | ... S7: =IF(S2<=('0 Úvod'!$G$18+'0 Úvod'!$J$18-1),'5 PN vozidel MHD'!S78,0) -> 0 | V7: MHD (vč. MĚSTSKÝ BUS)
C8: =IF('0 Úvod'!$M$10="English",Slovnik!D438,Slovnik!C438) -> Celkové invest. náklady bez rezervy | D8: =SUM(E8:S8,E29:S29) -> 0 | E8: ='1 CIN'!E10 -> 0 | F8: ='1 CIN'!F10 -> 0 | G8: ='1 CIN'!G10 -> 0 | H8: ='1 CIN'!H10 -> 0 | I8: ='1 CIN'!I10 -> 0 | J8: ='1 CIN'!J10 -> 0 | K8: ='1 CIN'!K10 -> 0 | L8: ='1 CIN'!L10 -> 0 | ... S8: ='1 CIN'!S10 -> 0
C9: =IF('0 Úvod'!$M$10="English",Slovnik!D439,Slovnik!C439) -> Zůstatková hodnota (záporná) | D9: =SUM(E9:S9,E30:S30) -> 0 | E9: =IF(E2='0 Úvod'!$G$18+'0 Úvod'!$J$18-1,-1*'2 ZH'!$D$47,0) -> 0 | F9: =IF(F2='0 Úvod'!$G$18+'0 Úvod'!$J$18-1,-1*'2 ZH'!$D$47,0) -> 0 | G9: =IF(G2='0 Úvod'!$G$18+'0 Úvod'!$J$18-1,-1*'2 ZH'!$D$47,0) -> 0 | H9: =IF(H2='0 Úvod'!$G$18+'0 Úvod'!$J$18-1,-1*'2 ZH'!$D$47,0) -> 0 | I9: =IF(I2='0 Úvod'!$G$18+'0 Úvod'!$J$18-1,-1*'2 ZH'!$D$47,0) -> 0 | J9: =IF(J2='0 Úvod'!$G$18+'0 Úvod'!$J$18-1,-1*'2 ZH'!$D$47,0) -> 0 | K9: =IF(K2='0 Úvod'!$G$18+'0 Úvod'!$J$18-1,-1*'2 ZH'!$D$47,0) -> 0 | L9: =IF(L2='0 Úvod'!$G$18+'0 Úvod'!$J$18-1,-1*'2 ZH'!$D$47,0) -> 0 | ... S9: =IF(S2='0 Úvod'!$G$18+'0 Úvod'!$J$18-1,-1*'2 ZH'!$D$47,0) -> 0
C10: =IF('0 Úvod'!$M$10="English",Slovnik!D440,Slovnik!C440) -> Celkové náklady | D10: =SUM(D6:D9) -> 0 | E10: =SUM(E6:E9) -> 0 | F10: =SUM(F6:F9) -> 0 | G10: =SUM(G6:G9) -> 0 | H10: =SUM(H6:H9) -> 0 | I10: =SUM(I6:I9) -> 0 | J10: =SUM(J6:J9) -> 0 | K10: =SUM(K6:K9) -> 0 | ... S10: =SUM(S6:S9) -> 0
C11: Čisté cash-flow | E11: =E5-E10 -> 0 | F11: =F5-F10 -> 0 | G11: =G5-G10 -> 0 | H11: =H5-H10 -> 0 | I11: =I5-I10 -> 0 | J11: =J5-J10 -> 0 | K11: =K5-K10 -> 0 | L11: =L5-L10 -> 0 | ... S11: =S5-S10 -> 0
C12: Grant EU | D12: =SUM(E12:S12,E33:S33) -> 0 | E12: =$E$44*'1 CIN'!E16 -> 0 | F12: =$E$44*'1 CIN'!F16 -> 0 | G12: =$E$44*'1 CIN'!G16 -> 0 | H12: =$E$44*'1 CIN'!H16 -> 0 | I12: =$E$44*'1 CIN'!I16 -> 0 | J12: =$E$44*'1 CIN'!J16 -> 0 | K12: =$E$44*'1 CIN'!K16 -> 0 | L12: =$E$44*'1 CIN'!L16 -> 0 | ... S12: =$E$44*'1 CIN'!S16 -> 0
C13: Čisté cash-flow + grant EU | E13: =E12+E11 -> 0 | F13: =F12+F11 -> 0 | G13: =G12+G11 -> 0 | H13: =H12+H11 -> 0 | I13: =I12+I11 -> 0 | J13: =J12+J11 -> 0 | K13: =K12+K11 -> 0 | L13: =L12+L11 -> 0 | ... S13: =S12+S11 -> 0
C14: Přijaté úvěry a půjčky
C15: Splátky úvěrů (jistina a úroky)
C16: Ostatní zdroje financování (specifikujte)
C17: Vlastní prostředky
C18: Celkové finanční zdroje | E18: =E12+E14-E15+E16+E17 -> 0 | F18: =F12+F14-F15+F16+F17 -> 0 | G18: =G12+G14-G15+G16+G17 -> 0 | H18: =H12+H14-H15+H16+H17 -> 0 | I18: =I12+I14-I15+I16+I17 -> 0 | J18: =J12+J14-J15+J16+J17 -> 0 | K18: =K12+K14-K15+K16+K17 -> 0 | L18: =L12+L14-L15+L16+L17 -> 0 | ... S18: =S12+S14-S15+S16+S17 -> 0
C19: Celkové finanční cash-flow | E19: =E18+E11 -> 0 | F19: =F18+F11 -> 0 | G19: =G18+G11 -> 0 | H19: =H18+H11 -> 0 | I19: =I18+I11 -> 0 | J19: =J18+J11 -> 0 | K19: =K18+K11 -> 0 | L19: =L18+L11 -> 0 | ... S19: =S18+S11 -> 0
C20: Kumulované celkové fin. cash-flow | E20: =E19 -> 0 | F20: =E20+F19 -> 0 | G20: =F20+G19 -> 0 | H20: =G20+H19 -> 0 | I20: =H20+I19 -> 0 | J20: =I20+J19 -> 0 | K20: =J20+K19 -> 0 | L20: =K20+L19 -> 0 | M20: =L20+M19 -> 0 | ... S20: =R20+S19 -> 0
C21: pomocný řádek | E21: =IF(E20>=0,0,999) -> 0 | F21: =IF(F20>=0,0,999) -> 0 | G21: =IF(G20>=0,0,999) -> 0 | H21: =IF(H20>=0,0,999) -> 0 | I21: =IF(I20>=0,0,999) -> 0 | J21: =IF(J20>=0,0,999) -> 0 | K21: =IF(K20>=0,0,999) -> 0 | L21: =IF(L20>=0,0,999) -> 0 | ... S21: =IF(S20>=0,0,999) -> 0
E22: =IF(E2>='0 Úvod'!$D$20,E4-E6-E7,0) -> 0 | F22: =IF(F2>='0 Úvod'!$D$20,F4-F6-F7,0) -> 0 | G22: =IF(G2>='0 Úvod'!$D$20,G4-G6-G7,0) -> 0 | H22: =IF(H2>='0 Úvod'!$D$20,H4-H6-H7,0) -> 0 | I22: =IF(I2>='0 Úvod'!$D$20,I4-I6-I7,0) -> 0 | J22: =IF(J2>='0 Úvod'!$D$20,J4-J6-J7,0) -> 0 | K22: =IF(K2>='0 Úvod'!$D$20,K4-K6-K7,0) -> 0 | L22: =IF(L2>='0 Úvod'!$D$20,L4-L6-L7,0) -> 0 | ... S22: =IF(S2>='0 Úvod'!$D$20,S4-S6-S7,0) -> 0
B23: 7.1. | C23: =C2 -> Finanční analýza projektu | E23: =S2+1 -> 2041 | F23: =E23+1 -> 2042 | G23: =F23+1 -> 2043 | H23: =G23+1 -> 2044 | I23: =H23+1 -> 2045 | J23: =I23+1 -> 2046 | K23: =J23+1 -> 2047 | L23: =K23+1 -> 2048 | M23: =L23+1 -> 2049 | ... S23: =R23+1 -> 2055
B24: b
C25: =C4 -> Celkové přírůstkové provozní příjmy | E25: =IF(E23<=('0 Úvod'!$G$18+'0 Úvod'!$J$18-1),'6 Příjmy'!E41,0) -> 0 | F25: =IF(F23<=('0 Úvod'!$G$18+'0 Úvod'!$J$18-1),'6 Příjmy'!F41,0) -> 0 | G25: =IF(G23<=('0 Úvod'!$G$18+'0 Úvod'!$J$18-1),'6 Příjmy'!G41,0) -> 0 | H25: =IF(H23<=('0 Úvod'!$G$18+'0 Úvod'!$J$18-1),'6 Příjmy'!H41,0) -> 0 | I25: =IF(I23<=('0 Úvod'!$G$18+'0 Úvod'!$J$18-1),'6 Příjmy'!I41,0) -> 0 | J25: =IF(J23<=('0 Úvod'!$G$18+'0 Úvod'!$J$18-1),'6 Příjmy'!J41,0) -> 0 | K25: =IF(K23<=('0 Úvod'!$G$18+'0 Úvod'!$J$18-1),'6 Příjmy'!K41,0) -> 0 | L25: =IF(L23<=('0 Úvod'!$G$18+'0 Úvod'!$J$18-1),'6 Příjmy'!L41,0) -> 0 | ... S25: =IF(S23<=('0 Úvod'!$G$18+'0 Úvod'!$J$18-1),'6 Příjmy'!S41,0) -> 0
C26: =C5 -> Celkové výnosy | E26: =SUM(E25) -> 0 | F26: =SUM(F25) -> 0 | G26: =SUM(G25) -> 0 | H26: =SUM(H25) -> 0 | I26: =SUM(I25) -> 0 | J26: =SUM(J25) -> 0 | K26: =SUM(K25) -> 0 | L26: =SUM(L25) -> 0 | ... S26: =SUM(S25) -> 0
